BEGIN:VCALENDAR
VERSION:2.0
PRODID:-//ShowWiz - ECPv5.16.4//NONSGML v1.0//EN
CALSCALE:GREGORIAN
METHOD:PUBLISH
X-WR-CALNAME:ShowWiz
X-ORIGINAL-URL:https://showwiz.ca
X-WR-CALDESC:Events for ShowWiz
BEGIN:VTIMEZONE
TZID:America/Toronto
BEGIN:DAYLIGHT
TZOFFSETFROM:-0500
TZOFFSETTO:-0400
TZNAME:EDT
DTSTART:20230312T070000
END:DAYLIGHT
BEGIN:STANDARD
TZOFFSETFROM:-0400
TZOFFSETTO:-0500
TZNAME:EST
DTSTART:20231105T060000
END:STANDARD
END:VTIMEZONE
BEGIN:VEVENT
DTSTART;TZID=America/Toronto:20230325T090000
DTEND;TZID=America/Toronto:20230325T140000
DTSTAMP:20260424T165215
CREATED:20230307T210724Z
LAST-MODIFIED:20230307T210724Z
UID:23256-1679734800-1679752800@showwiz.ca
SUMMARY:Wesley United Church Spring Craft Fair
DESCRIPTION:We are holding a Spring craft and vendor show on Saturday\, March 25th at the Wesley United Church in Pembroke\, and would love to have you join! \n\n\nJUST IN TIME FOR EASTER!! \n\n\nMultiple table sizes are available\, and there is plenty of parking as well!!
URL:https://showwiz.ca/show/wesley-united-church-spring-craft-fair/
LOCATION:Wesley United Church Pembroke\, 275 Pembroke St E\, Pembroke\, Ontario\, K8A3J9\, Canada
ATTACH;FMTTYPE=image/jpeg:https://showwiz.ca/wp-content/uploads/2023/03/334794954_3563245570571940_1553816633655342763_n.jpg
GEO:45.8273588;-77.1076126
X-APPLE-STRUCTURED-LOCATION;VALUE=URI;X-ADDRESS=Wesley United Church Pembroke 275 Pembroke St E Pembroke Ontario K8A3J9 Canada;X-APPLE-RADIUS=500;X-TITLE=275 Pembroke St E:geo:-77.1076126,45.8273588
END:VEVENT
END:VCALENDAR