BEGIN:VCALENDAR
VERSION:2.0
PRODID:-//ShowWiz - ECPv5.16.4//NONSGML v1.0//EN
CALSCALE:GREGORIAN
METHOD:PUBLISH
X-WR-CALNAME:ShowWiz
X-ORIGINAL-URL:https://showwiz.ca
X-WR-CALDESC:Events for ShowWiz
BEGIN:VTIMEZONE
TZID:America/Toronto
BEGIN:DAYLIGHT
TZOFFSETFROM:-0500
TZOFFSETTO:-0400
TZNAME:EDT
DTSTART:20200308T070000
END:DAYLIGHT
BEGIN:STANDARD
TZOFFSETFROM:-0400
TZOFFSETTO:-0500
TZNAME:EST
DTSTART:20201101T060000
END:STANDARD
END:VTIMEZONE
BEGIN:VEVENT
DTSTART;VALUE=DATE:20201112
DTEND;VALUE=DATE:20201217
DTSTAMP:20260425T104033
CREATED:20201123T063001Z
LAST-MODIFIED:20230122T195911Z
UID:17153-1605139200-1608163199@showwiz.ca
SUMMARY:The Holidays Are Coming!
DESCRIPTION:The Holidays are coming! This has been an unusual year for many people\, and we have all had to pivot in one way or another.\nLet’s have some fun! Let’s support small businesses and entrepreneurs as we go about our holiday shopping this year. \nFrom now through mid-December\, different vendors will be featured each week. One lucky winner will receive a gift card (from their choice of establishment) to keep or give away as a gift!\nSo invite your friends\, sit back\, have some fun with us\, and get your shopping done from the comfort of home!
URL:https://showwiz.ca/show/the-holidays-are-coming/
LOCATION:Online
END:VEVENT
END:VCALENDAR