BEGIN:VCALENDAR
VERSION:2.0
PRODID:-//ShowWiz - ECPv5.16.4//NONSGML v1.0//EN
CALSCALE:GREGORIAN
METHOD:PUBLISH
X-WR-CALNAME:ShowWiz
X-ORIGINAL-URL:https://showwiz.ca
X-WR-CALDESC:Events for ShowWiz
BEGIN:VTIMEZONE
TZID:America/Toronto
BEGIN:DAYLIGHT
TZOFFSETFROM:-0500
TZOFFSETTO:-0400
TZNAME:EDT
DTSTART:20230312T070000
END:DAYLIGHT
BEGIN:STANDARD
TZOFFSETFROM:-0400
TZOFFSETTO:-0500
TZNAME:EST
DTSTART:20231105T060000
END:STANDARD
END:VTIMEZONE
BEGIN:VEVENT
DTSTART;TZID=America/Toronto:20230709T110000
DTEND;TZID=America/Toronto:20230709T160000
DTSTAMP:20260424T005450
CREATED:20230113T030637Z
LAST-MODIFIED:20230113T030637Z
UID:22545-1688900400-1688918400@showwiz.ca
SUMMARY:SUMMER VENDOR MARKET - MERRICKVILLE
DESCRIPTION:On July 9th\, 2023 from 11am – 4pm you can grab your shopping bags and come see what our amazing vendors have to offer at the Merrickville Community Centre. 106 Read St\, Merrickville\, ON K0G 1N0\nWith so many vendors offering different things there is sure to be something for everyone.\nAdmission is Free 
URL:https://showwiz.ca/show/summer-vendor-market-merrickville/
LOCATION:Merrickville Community Centre\, 106 Read Street\, Merrickville\, Ontario\, K0G1N0\, Canada
ATTACH;FMTTYPE=image/jpeg:https://showwiz.ca/wp-content/uploads/2023/01/316949418_3099097880383266_5123823561196207106_n.jpg
GEO:44.9153318;-75.8421894
X-APPLE-STRUCTURED-LOCATION;VALUE=URI;X-ADDRESS=Merrickville Community Centre 106 Read Street Merrickville Ontario K0G1N0 Canada;X-APPLE-RADIUS=500;X-TITLE=106 Read Street:geo:-75.8421894,44.9153318
END:VEVENT
END:VCALENDAR