BEGIN:VCALENDAR
VERSION:2.0
PRODID:-//ShowWiz - ECPv5.16.4//NONSGML v1.0//EN
CALSCALE:GREGORIAN
METHOD:PUBLISH
X-WR-CALNAME:ShowWiz
X-ORIGINAL-URL:https://showwiz.ca
X-WR-CALDESC:Events for ShowWiz
BEGIN:VTIMEZONE
TZID:America/Toronto
BEGIN:DAYLIGHT
TZOFFSETFROM:-0500
TZOFFSETTO:-0400
TZNAME:EDT
DTSTART:20230312T070000
END:DAYLIGHT
BEGIN:STANDARD
TZOFFSETFROM:-0400
TZOFFSETTO:-0500
TZNAME:EST
DTSTART:20231105T060000
END:STANDARD
END:VTIMEZONE
BEGIN:VEVENT
DTSTART;TZID=America/Toronto:20230729T100000
DTEND;TZID=America/Toronto:20230729T150000
DTSTAMP:20260424T014320
CREATED:20230502T203126Z
LAST-MODIFIED:20230724T164430Z
UID:23477-1690624800-1690642800@showwiz.ca
SUMMARY:Summer Market
DESCRIPTION:Join us for a fun day under the sun while supporting local. Entry is free\, door prizes up for grabs\, and best of all\, you can bring your four legged friend! Sunflower Care will also be there offering 10$ nail trims.
URL:https://showwiz.ca/show/summer-market/
LOCATION:Shenkman Arts Centre\, 245 Centrum Blvd\, Orléans\, Ontario\, K1E0A1\, Canada
ATTACH;FMTTYPE=image/jpeg:https://showwiz.ca/wp-content/uploads/2023/05/344191912_1483509705720729_5453993953983779449_n.jpg
ORGANIZER;CN="Victoria%20Vaudry":MAILTO:doggocakesandtreats@gmail.com
GEO:45.4807032;-75.5113181
X-APPLE-STRUCTURED-LOCATION;VALUE=URI;X-ADDRESS=Shenkman Arts Centre 245 Centrum Blvd Orléans Ontario K1E0A1 Canada;X-APPLE-RADIUS=500;X-TITLE=245 Centrum Blvd:geo:-75.5113181,45.4807032
END:VEVENT
END:VCALENDAR