BEGIN:VCALENDAR
VERSION:2.0
PRODID:-//ShowWiz - ECPv5.16.4//NONSGML v1.0//EN
CALSCALE:GREGORIAN
METHOD:PUBLISH
X-WR-CALNAME:ShowWiz
X-ORIGINAL-URL:https://showwiz.ca
X-WR-CALDESC:Events for ShowWiz
BEGIN:VTIMEZONE
TZID:America/Toronto
BEGIN:DAYLIGHT
TZOFFSETFROM:-0500
TZOFFSETTO:-0400
TZNAME:EDT
DTSTART:20230312T070000
END:DAYLIGHT
BEGIN:STANDARD
TZOFFSETFROM:-0400
TZOFFSETTO:-0500
TZNAME:EST
DTSTART:20231105T060000
END:STANDARD
END:VTIMEZONE
BEGIN:VEVENT
DTSTART;TZID=America/Toronto:20230617T100000
DTEND;TZID=America/Toronto:20230617T160000
DTSTAMP:20260424T053932
CREATED:20230510T150750Z
LAST-MODIFIED:20230510T150750Z
UID:23530-1686996000-1687017600@showwiz.ca
SUMMARY:Summer Indigenous Art Market
DESCRIPTION:Gather with us in the Gail & David O’Brien Atrium as we host Indigenous artists and artisans for the Summer Indigenous Art Market at the National Arts Centre. Join in on the community spirit by supporting artists\, seeing friends and connecting with arts and culture.\nThe Indigenous Art Market features the diverse and amazing work of Métis\, Inuit and First Nations makers. Browse jewelry\, beadwork\, paintings\, sculptures\, mittens\, moccasins\, coffee\, crafts\, and much more. Come and enjoy the fun!\nCash or card depending on the vendor. ATM on site.
URL:https://showwiz.ca/show/summer-indigenous-art-market/
LOCATION:National Arts Centre\, 1 Elgin Street\, Ottawa\, Ontario\, K1P5W1\, Canada
ATTACH;FMTTYPE=image/jpeg:https://showwiz.ca/wp-content/uploads/2023/05/344377950_958799581977508_8977442934849290465_n.jpg
ORGANIZER;CN="National%20Arts%20Centre%20-%20Indigenous%20Theatre":MAILTO:mairi.brascoupe@nac-cna.ca
GEO:45.4231893;-75.6939477
X-APPLE-STRUCTURED-LOCATION;VALUE=URI;X-ADDRESS=National Arts Centre 1 Elgin Street Ottawa Ontario K1P5W1 Canada;X-APPLE-RADIUS=500;X-TITLE=1 Elgin Street:geo:-75.6939477,45.4231893
END:VEVENT
END:VCALENDAR