BEGIN:VCALENDAR
VERSION:2.0
PRODID:-//ShowWiz - ECPv5.16.4//NONSGML v1.0//EN
CALSCALE:GREGORIAN
METHOD:PUBLISH
X-WR-CALNAME:ShowWiz
X-ORIGINAL-URL:https://showwiz.ca
X-WR-CALDESC:Events for ShowWiz
BEGIN:VTIMEZONE
TZID:America/Toronto
BEGIN:DAYLIGHT
TZOFFSETFROM:-0500
TZOFFSETTO:-0400
TZNAME:EDT
DTSTART:20230312T070000
END:DAYLIGHT
BEGIN:STANDARD
TZOFFSETFROM:-0400
TZOFFSETTO:-0500
TZNAME:EST
DTSTART:20231105T060000
END:STANDARD
END:VTIMEZONE
BEGIN:VEVENT
DTSTART;TZID=America/Toronto:20230624T110000
DTEND;TZID=America/Toronto:20230624T160000
DTSTAMP:20260424T050924
CREATED:20230808T171700Z
LAST-MODIFIED:20230808T171700Z
UID:23887-1687604400-1687622400@showwiz.ca
SUMMARY:Summer Celebration at Penny Lane!
DESCRIPTION:
URL:https://showwiz.ca/show/summer-celebration-at-penny-lane-2/
LOCATION:Penny Lane Farm Sanctuary\, 1795 Du Lac Rd\, Saint-Pascal-Baylon\, Ontario\, K0A3N0\, Canada
ORGANIZER;CN="Penny%20Lane%20Farm%20Sanctuary":MAILTO:loop.carole@gmail.com
GEO:45.5162679;-75.1677789
X-APPLE-STRUCTURED-LOCATION;VALUE=URI;X-ADDRESS=Penny Lane Farm Sanctuary 1795 Du Lac Rd Saint-Pascal-Baylon Ontario K0A3N0 Canada;X-APPLE-RADIUS=500;X-TITLE=1795 Du Lac Rd:geo:-75.1677789,45.5162679
END:VEVENT
END:VCALENDAR