BEGIN:VCALENDAR
VERSION:2.0
PRODID:-//ShowWiz - ECPv5.16.4//NONSGML v1.0//EN
CALSCALE:GREGORIAN
METHOD:PUBLISH
X-WR-CALNAME:ShowWiz
X-ORIGINAL-URL:https://showwiz.ca
X-WR-CALDESC:Events for ShowWiz
BEGIN:VTIMEZONE
TZID:America/Toronto
BEGIN:DAYLIGHT
TZOFFSETFROM:-0500
TZOFFSETTO:-0400
TZNAME:EDT
DTSTART:20220313T070000
END:DAYLIGHT
BEGIN:STANDARD
TZOFFSETFROM:-0400
TZOFFSETTO:-0500
TZNAME:EST
DTSTART:20221106T060000
END:STANDARD
END:VTIMEZONE
BEGIN:VEVENT
DTSTART;TZID=America/Toronto:20220529T103000
DTEND;TZID=America/Toronto:20220529T150000
DTSTAMP:20260424T071847
CREATED:20220415T042455Z
LAST-MODIFIED:20220510T041001Z
UID:20264-1653820200-1653836400@showwiz.ca
SUMMARY:Square Lemon Craft Market
DESCRIPTION:Shop in person from over 40 local artisans and makers. FREE workshop onsite.
URL:https://showwiz.ca/show/square-lemon-craft-market/
LOCATION:Glebe Community Centre\, 175 Third Avenue\, Ottawa\, Ontario\, K1S2K2\, Canada
ATTACH;FMTTYPE=image/jpeg:https://showwiz.ca/wp-content/uploads/2022/04/279385650_1113928802781523_80378639682115733_n.jpg
ORGANIZER;CN="Square%20Lemon%20Ottawa":MAILTO:info@squarelemon.ca
GEO:45.4022369;-75.6914983
X-APPLE-STRUCTURED-LOCATION;VALUE=URI;X-ADDRESS=Glebe Community Centre 175 Third Avenue Ottawa Ontario K1S2K2 Canada;X-APPLE-RADIUS=500;X-TITLE=175 Third Avenue:geo:-75.6914983,45.4022369
END:VEVENT
END:VCALENDAR