BEGIN:VCALENDAR
VERSION:2.0
PRODID:-//ShowWiz - ECPv5.16.4//NONSGML v1.0//EN
CALSCALE:GREGORIAN
METHOD:PUBLISH
X-WR-CALNAME:ShowWiz
X-ORIGINAL-URL:https://showwiz.ca
X-WR-CALDESC:Events for ShowWiz
BEGIN:VTIMEZONE
TZID:America/Toronto
BEGIN:DAYLIGHT
TZOFFSETFROM:-0500
TZOFFSETTO:-0400
TZNAME:EDT
DTSTART:20200308T070000
END:DAYLIGHT
BEGIN:STANDARD
TZOFFSETFROM:-0400
TZOFFSETTO:-0500
TZNAME:EST
DTSTART:20201101T060000
END:STANDARD
END:VTIMEZONE
BEGIN:VEVENT
DTSTART;TZID=America/Toronto:20200116T080000
DTEND;TZID=America/Toronto:20200116T170000
DTSTAMP:20260425T095819
CREATED:20200116T214340Z
LAST-MODIFIED:20200116T214340Z
UID:11750-1579161600-1579194000@showwiz.ca
SUMMARY:Spring Shopping Event
DESCRIPTION:
URL:https://showwiz.ca/show/spring-shopping-event/
LOCATION:Napanee Lions Club Hall\, 57 County Road 8\, Napanee\, Ontario\, K7R3E6\, Canada
ORGANIZER;CN="Creative%20Connections%20Sales":MAILTO:akidinacandyshop_2011@outlook.com
GEO:44.2437069;-76.9448753
X-APPLE-STRUCTURED-LOCATION;VALUE=URI;X-ADDRESS=Napanee Lions Club Hall 57 County Road 8 Napanee Ontario K7R3E6 Canada;X-APPLE-RADIUS=500;X-TITLE=57 County Road 8:geo:-76.9448753,44.2437069
END:VEVENT
END:VCALENDAR