BEGIN:VCALENDAR
VERSION:2.0
PRODID:-//ShowWiz - ECPv5.16.4//NONSGML v1.0//EN
CALSCALE:GREGORIAN
METHOD:PUBLISH
X-WR-CALNAME:ShowWiz
X-ORIGINAL-URL:https://showwiz.ca
X-WR-CALDESC:Events for ShowWiz
BEGIN:VTIMEZONE
TZID:America/Toronto
BEGIN:DAYLIGHT
TZOFFSETFROM:-0500
TZOFFSETTO:-0400
TZNAME:EDT
DTSTART:20220313T070000
END:DAYLIGHT
BEGIN:STANDARD
TZOFFSETFROM:-0400
TZOFFSETTO:-0500
TZNAME:EST
DTSTART:20221106T060000
END:STANDARD
END:VTIMEZONE
BEGIN:VEVENT
DTSTART;TZID=America/Toronto:20220430T120000
DTEND;TZID=America/Toronto:20220430T160000
DTSTAMP:20260424T193624
CREATED:20220327T014230Z
LAST-MODIFIED:20220328T020904Z
UID:20096-1651320000-1651334400@showwiz.ca
SUMMARY:Spring Fling Market
DESCRIPTION:Our Spring Fling Market will take place at the beautiful Somewhere Inn located in Calabogie\, ON.\nFeaturing over 30 different small businesses from all over the Ottawa Valley\, there is sure to be something for everyone.\nLocally made food and drinks will be available for guests to enjoy. Please ensure you purchase the right tickets in order to get the experience you are wanting.\nAll proceeds of this market will be donated directly to The Children’s Hospital of Eastern Ontario (CHEO).\nNEW this year we will be hosting workshops led by talented local makers and artists!\n\n$5 for market only\, donation to CHEO\n$20 General admission\, drink of choice\, charcuterie cup\, market access\n$30 VIP\, drink of choice\, charcuterie cup\, swag bag\, market access
URL:https://showwiz.ca/show/spring-fling-market/
LOCATION:Somewhere Inn\, 5254 Calabogie Road\, Calabogie\, Ontario\, K0J 1H0\, Canada
ATTACH;FMTTYPE=image/jpeg:https://showwiz.ca/wp-content/uploads/2022/03/277362348_156960803381739_3778757556926188448_n.jpg
ORGANIZER;CN="Vendors%20of%20the%20Valley":MAILTO:vendors.ofthe.valley@gmail.com
GEO:45.2948188;-76.744934
X-APPLE-STRUCTURED-LOCATION;VALUE=URI;X-ADDRESS=Somewhere Inn 5254 Calabogie Road Calabogie Ontario K0J 1H0 Canada;X-APPLE-RADIUS=500;X-TITLE=5254 Calabogie Road:geo:-76.744934,45.2948188
END:VEVENT
END:VCALENDAR