BEGIN:VCALENDAR
VERSION:2.0
PRODID:-//ShowWiz - ECPv5.16.4//NONSGML v1.0//EN
CALSCALE:GREGORIAN
METHOD:PUBLISH
X-WR-CALNAME:ShowWiz
X-ORIGINAL-URL:https://showwiz.ca
X-WR-CALDESC:Events for ShowWiz
BEGIN:VTIMEZONE
TZID:America/Toronto
BEGIN:DAYLIGHT
TZOFFSETFROM:-0500
TZOFFSETTO:-0400
TZNAME:EDT
DTSTART:20200308T070000
END:DAYLIGHT
BEGIN:STANDARD
TZOFFSETFROM:-0400
TZOFFSETTO:-0500
TZNAME:EST
DTSTART:20201101T060000
END:STANDARD
END:VTIMEZONE
BEGIN:VEVENT
DTSTART;TZID=America/Toronto:20200329T120000
DTEND;TZID=America/Toronto:20200329T160000
DTSTAMP:20260425T000450
CREATED:20200306T165858Z
LAST-MODIFIED:20200315T144030Z
UID:14834-1585483200-1585497600@showwiz.ca
SUMMARY:Spring Edition! Thrift and Vintage Pop-Up
DESCRIPTION:Love thrift\, vintage and spring?! Of course you do💓🌸\nWe will have lots of clothes\, housewares and awesome goodies for you to check out.
URL:https://showwiz.ca/show/spring-edition-thrift-and-vintage-pop-up/
LOCATION:Open Studios Kingston\, 1 Montreal St #39\, Kingston\, Ontario\, K7K3E7\, Canada
ATTACH;FMTTYPE=image/jpeg:https://showwiz.ca/wp-content/uploads/2020/03/86800286_2569331273171282_23211175793655808_n.jpg
GEO:44.2323987;-76.485328
X-APPLE-STRUCTURED-LOCATION;VALUE=URI;X-ADDRESS=Open Studios Kingston 1 Montreal St #39 Kingston Ontario K7K3E7 Canada;X-APPLE-RADIUS=500;X-TITLE=1 Montreal St #39:geo:-76.485328,44.2323987
END:VEVENT
END:VCALENDAR