BEGIN:VCALENDAR
VERSION:2.0
PRODID:-//ShowWiz - ECPv5.16.4//NONSGML v1.0//EN
CALSCALE:GREGORIAN
METHOD:PUBLISH
X-WR-CALNAME:ShowWiz
X-ORIGINAL-URL:https://showwiz.ca
X-WR-CALDESC:Events for ShowWiz
BEGIN:VTIMEZONE
TZID:America/Toronto
BEGIN:DAYLIGHT
TZOFFSETFROM:-0500
TZOFFSETTO:-0400
TZNAME:EDT
DTSTART:20180311T070000
END:DAYLIGHT
BEGIN:STANDARD
TZOFFSETFROM:-0400
TZOFFSETTO:-0500
TZNAME:EST
DTSTART:20181104T060000
END:STANDARD
END:VTIMEZONE
BEGIN:VEVENT
DTSTART;TZID=America/Toronto:20181202T110000
DTEND;TZID=America/Toronto:20181202T160000
DTSTAMP:20260424T094614
CREATED:20181128T002351Z
LAST-MODIFIED:20190302T062211Z
UID:1736-1543748400-1543766400@showwiz.ca
SUMMARY:Social Enterprise Ottawa Holiday Market
DESCRIPTION:Come buy all your holiday goodies from inspirational entrepreneurs giving back and creating change all over the world! \nOttawa’s social enterprise scene is growing and with 10+ vendors all who are putting their profits to good\, you can feel great knowing that your purchases are making a difference!
URL:https://showwiz.ca/show/social-enterprise-ottawa-holiday-market/
LOCATION:Performance Court\, 150 Elgin Street\, Ottawa\, Ontario\, K2P1L4\, Canada
ATTACH;FMTTYPE=image/jpeg:https://showwiz.ca/wp-content/uploads/2018/11/social-enterprise-holiday-market-56.jpeg
ORGANIZER;CN="Soap2Hope":MAILTO:katie@soap2hope.com
GEO:45.4204818;-75.6928242
X-APPLE-STRUCTURED-LOCATION;VALUE=URI;X-ADDRESS=Performance Court 150 Elgin Street Ottawa Ontario K2P1L4 Canada;X-APPLE-RADIUS=500;X-TITLE=150 Elgin Street:geo:-75.6928242,45.4204818
END:VEVENT
END:VCALENDAR