BEGIN:VCALENDAR
VERSION:2.0
PRODID:-//ShowWiz - ECPv5.16.4//NONSGML v1.0//EN
CALSCALE:GREGORIAN
METHOD:PUBLISH
X-WR-CALNAME:ShowWiz
X-ORIGINAL-URL:https://showwiz.ca
X-WR-CALDESC:Events for ShowWiz
BEGIN:VTIMEZONE
TZID:America/Toronto
BEGIN:DAYLIGHT
TZOFFSETFROM:-0500
TZOFFSETTO:-0400
TZNAME:EDT
DTSTART:20190310T070000
END:DAYLIGHT
BEGIN:STANDARD
TZOFFSETFROM:-0400
TZOFFSETTO:-0500
TZNAME:EST
DTSTART:20191103T060000
END:STANDARD
END:VTIMEZONE
BEGIN:VEVENT
DTSTART;TZID=America/Toronto:20191109T090000
DTEND;TZID=America/Toronto:20191109T130000
DTSTAMP:20260425T123604
CREATED:20191105T154247Z
LAST-MODIFIED:20191105T160138Z
UID:10543-1573290000-1573304400@showwiz.ca
SUMMARY:Snowflake Bazaar
DESCRIPTION:Come and begin or finish your Christmas shopping!\nHomemade baked goods\, deli items & preserves.\nJewellery\, books\, attic treasures\, knitting\, luncheon and SO MUCH MORE!
URL:https://showwiz.ca/show/snowflake-bazaar/
LOCATION:St. James Anglican Church – Carleton Place\, 225 Edmund Street\, Carleton Place\, Ontario\, K7C3E7\, Canada
ATTACH;FMTTYPE=image/jpeg:https://showwiz.ca/wp-content/uploads/2019/11/71770653_10156907494447984_5141167220151287808_n.jpg
ORGANIZER;CN="St.%20James%20Anglican%20Church%20-%20Carleton%20Place":MAILTO:office@stjamescarletonplace.ca
GEO:45.1428334;-76.1461212
X-APPLE-STRUCTURED-LOCATION;VALUE=URI;X-ADDRESS=St. James Anglican Church – Carleton Place 225 Edmund Street Carleton Place Ontario K7C3E7 Canada;X-APPLE-RADIUS=500;X-TITLE=225 Edmund Street:geo:-76.1461212,45.1428334
END:VEVENT
END:VCALENDAR