BEGIN:VCALENDAR
VERSION:2.0
PRODID:-//ShowWiz - ECPv5.16.4//NONSGML v1.0//EN
CALSCALE:GREGORIAN
METHOD:PUBLISH
X-WR-CALNAME:ShowWiz
X-ORIGINAL-URL:https://showwiz.ca
X-WR-CALDESC:Events for ShowWiz
BEGIN:VTIMEZONE
TZID:America/Toronto
BEGIN:DAYLIGHT
TZOFFSETFROM:-0500
TZOFFSETTO:-0400
TZNAME:EDT
DTSTART:20190310T070000
END:DAYLIGHT
BEGIN:STANDARD
TZOFFSETFROM:-0400
TZOFFSETTO:-0500
TZNAME:EST
DTSTART:20191103T060000
END:STANDARD
END:VTIMEZONE
BEGIN:VEVENT
DTSTART;TZID=America/Toronto:20190810T170000
DTEND;TZID=America/Toronto:20190810T230000
DTSTAMP:20260424T144544
CREATED:20190716T024749Z
LAST-MODIFIED:20190716T024807Z
UID:7842-1565456400-1565478000@showwiz.ca
SUMMARY:Smiths Falls Pride
DESCRIPTION:It’s on! Smiths Falls Pride is happening Saturday\, August 10\, 2019\nParade will be in the evening similar to last year and we may be lucky enough to have a couple of daytime activities as well. Stay tuned.\nDance in Centennial Park to follow – STARFIRE is coming back! bring your dancing shoes!\nPlease message if you’d like to participate!\nThis is a family-friendly community event. Please spread the word. We’d love to see everyone come out and support and celebrate our beautiful diversity!
URL:https://showwiz.ca/show/smiths-falls-pride/
LOCATION:Centennial Park – Smiths Falls\, 2-22 Confederation Drive\, Smiths Falls\, Ontario\, K7A2P6\, Canada
ATTACH;FMTTYPE=image/jpeg:https://showwiz.ca/wp-content/uploads/2019/07/66034590_624341748053584_5668521472465829888_o.jpg
ORGANIZER;CN="Smiths%20Falls%20Pride":MAILTO:smithsfallspride@gmail.com
GEO:44.8984789;-76.0237244
X-APPLE-STRUCTURED-LOCATION;VALUE=URI;X-ADDRESS=Centennial Park – Smiths Falls 2-22 Confederation Drive Smiths Falls Ontario K7A2P6 Canada;X-APPLE-RADIUS=500;X-TITLE=2-22 Confederation Drive:geo:-76.0237244,44.8984789
END:VEVENT
END:VCALENDAR