BEGIN:VCALENDAR
VERSION:2.0
PRODID:-//ShowWiz - ECPv5.16.4//NONSGML v1.0//EN
CALSCALE:GREGORIAN
METHOD:PUBLISH
X-WR-CALNAME:ShowWiz
X-ORIGINAL-URL:https://showwiz.ca
X-WR-CALDESC:Events for ShowWiz
BEGIN:VTIMEZONE
TZID:America/Toronto
BEGIN:DAYLIGHT
TZOFFSETFROM:-0500
TZOFFSETTO:-0400
TZNAME:EDT
DTSTART:20190310T070000
END:DAYLIGHT
BEGIN:STANDARD
TZOFFSETFROM:-0400
TZOFFSETTO:-0500
TZNAME:EST
DTSTART:20191103T060000
END:STANDARD
END:VTIMEZONE
BEGIN:VEVENT
DTSTART;TZID=America/Toronto:20191215T100000
DTEND;TZID=America/Toronto:20191215T140000
DTSTAMP:20260424T175557
CREATED:20191104T144914Z
LAST-MODIFIED:20191122T234733Z
UID:10474-1576404000-1576418400@showwiz.ca
SUMMARY:Smiths Falls Lions Club Craft Sale
DESCRIPTION:
URL:https://showwiz.ca/show/smiths-falls-lions-club-craft-sale/
LOCATION:Smiths Falls Lions Den\, 19 Abbot Street S\, Smiths Falls\, Ontario\, K7A 4G4\, Canada
ATTACH;FMTTYPE=image/jpeg:https://showwiz.ca/wp-content/uploads/2019/11/77424653_10157559447091006_3168662232007442432_o-e1574466446884.jpg
ORGANIZER;CN="Smiths%20Falls%20Lions%20Club":MAILTO:ashley_adey@hotmail.com
GEO:44.8942835;-76.0259811
X-APPLE-STRUCTURED-LOCATION;VALUE=URI;X-ADDRESS=Smiths Falls Lions Den 19 Abbot Street S Smiths Falls Ontario K7A 4G4 Canada;X-APPLE-RADIUS=500;X-TITLE=19 Abbot Street S:geo:-76.0259811,44.8942835
END:VEVENT
END:VCALENDAR