BEGIN:VCALENDAR
VERSION:2.0
PRODID:-//ShowWiz - ECPv5.16.4//NONSGML v1.0//EN
CALSCALE:GREGORIAN
METHOD:PUBLISH
X-WR-CALNAME:ShowWiz
X-ORIGINAL-URL:https://showwiz.ca
X-WR-CALDESC:Events for ShowWiz
BEGIN:VTIMEZONE
TZID:America/Toronto
BEGIN:DAYLIGHT
TZOFFSETFROM:-0500
TZOFFSETTO:-0400
TZNAME:EDT
DTSTART:20230312T070000
END:DAYLIGHT
BEGIN:STANDARD
TZOFFSETFROM:-0400
TZOFFSETTO:-0500
TZNAME:EST
DTSTART:20231105T060000
END:STANDARD
END:VTIMEZONE
BEGIN:VEVENT
DTSTART;TZID=America/Toronto:20230527T120000
DTEND;TZID=America/Toronto:20230527T170000
DTSTAMP:20260424T081320
CREATED:20230510T204445Z
LAST-MODIFIED:20230510T204445Z
UID:23644-1685188800-1685206800@showwiz.ca
SUMMARY:Sip\, Snack and Shop
DESCRIPTION:Save the date for the KHCA’s “Sip\, Snack and Shop” outdoor market. This event will feature a wide variety of local artisan vendors\, as well as\, 1-2 local breweries who will be selling and serving beer. Shopping\, cold beer and good neighbours – what a great way to kick off the summer!\nLocation: Dunlop Park (15 Dunlop Crt) located behind St. Paul’s Anglican Church. The church is kindly allowing the use of their parking lot. Street parking is also available.
URL:https://showwiz.ca/show/sip-snack-and-shop/
LOCATION:Dunlop Park (also known as McLennan Park) – Ottawa\, 15 Dunlop Ct\, Kanata\, Ontario\, K2L2M2\, Canada
ATTACH;FMTTYPE=image/jpeg:https://showwiz.ca/wp-content/uploads/2023/05/343085066_781499073338765_7603563550695144329_n.jpg
ORGANIZER;CN="Katimavik-Hazeldean%20Community%20Association":MAILTO:katimavikhazeldean@gmail.com
GEO:45.2981921;-75.8939338
X-APPLE-STRUCTURED-LOCATION;VALUE=URI;X-ADDRESS=Dunlop Park (also known as McLennan Park) – Ottawa 15 Dunlop Ct Kanata Ontario K2L2M2 Canada;X-APPLE-RADIUS=500;X-TITLE=15 Dunlop Ct:geo:-75.8939338,45.2981921
END:VEVENT
END:VCALENDAR