BEGIN:VCALENDAR
VERSION:2.0
PRODID:-//ShowWiz - ECPv5.16.4//NONSGML v1.0//EN
CALSCALE:GREGORIAN
METHOD:PUBLISH
X-WR-CALNAME:ShowWiz
X-ORIGINAL-URL:https://showwiz.ca
X-WR-CALDESC:Events for ShowWiz
BEGIN:VTIMEZONE
TZID:America/Toronto
BEGIN:DAYLIGHT
TZOFFSETFROM:-0500
TZOFFSETTO:-0400
TZNAME:EDT
DTSTART:20200308T070000
END:DAYLIGHT
BEGIN:STANDARD
TZOFFSETFROM:-0400
TZOFFSETTO:-0500
TZNAME:EST
DTSTART:20201101T060000
END:STANDARD
END:VTIMEZONE
BEGIN:VEVENT
DTSTART;TZID=America/Toronto:20200815T090000
DTEND;TZID=America/Toronto:20200815T150000
DTSTAMP:20260424T094313
CREATED:20200408T044334Z
LAST-MODIFIED:20200408T044334Z
UID:15645-1597482000-1597503600@showwiz.ca
SUMMARY:Shop Local Showcase 2020
DESCRIPTION:Tentative new date. \nFeaturing a premier business networking mixer for exhibitors and trade fair combination\, connecting businesses and consumers to the area business landscape. The Showcase is always open to the community on a Saturday between 9am and 3pm with free attendance. Over 2000 in attendance in past years.\nWe are humbled by the support that we have received from area businesses\, to bring this event together each year. Local business support is what makes a community livable\, sustainable\, and unique!
URL:https://showwiz.ca/show/shop-local-showcase-2020-2/
LOCATION:North Grenville Municipal Centre\, 285 County Road #44\, Kemptville\, Ontario\, K0G1J0\, Canada
ATTACH;FMTTYPE=image/png:https://showwiz.ca/wp-content/uploads/2018/09/ShopLocalLogo.png
ORGANIZER;CN="Shop%20Local%20Showcase":MAILTO:info@shoplocalshowcase.ca
GEO:45.0244415;-75.6537509
X-APPLE-STRUCTURED-LOCATION;VALUE=URI;X-ADDRESS=North Grenville Municipal Centre 285 County Road #44 Kemptville Ontario K0G1J0 Canada;X-APPLE-RADIUS=500;X-TITLE=285 County Road #44:geo:-75.6537509,45.0244415
END:VEVENT
END:VCALENDAR