BEGIN:VCALENDAR
VERSION:2.0
PRODID:-//ShowWiz - ECPv5.16.4//NONSGML v1.0//EN
CALSCALE:GREGORIAN
METHOD:PUBLISH
X-WR-CALNAME:ShowWiz
X-ORIGINAL-URL:https://showwiz.ca
X-WR-CALDESC:Events for ShowWiz
BEGIN:VTIMEZONE
TZID:America/Toronto
BEGIN:DAYLIGHT
TZOFFSETFROM:-0500
TZOFFSETTO:-0400
TZNAME:EDT
DTSTART:20210314T070000
END:DAYLIGHT
BEGIN:STANDARD
TZOFFSETFROM:-0400
TZOFFSETTO:-0500
TZNAME:EST
DTSTART:20211107T060000
END:STANDARD
END:VTIMEZONE
BEGIN:VEVENT
DTSTART;TZID=America/Toronto:20210905T100000
DTEND;TZID=America/Toronto:20210905T150000
DTSTAMP:20260423T231735
CREATED:20210809T041755Z
LAST-MODIFIED:20210809T041755Z
UID:18805-1630836000-1630854000@showwiz.ca
SUMMARY:Priest's Mill Summer Artist's Market
DESCRIPTION:Priest’s Mill Arts Centre is hosting a weekly Summer Artist’s Market! Come shop local artists and artisans while enjoying beautiful Mill Square across from Priest’s Mill Arts Centre.
URL:https://showwiz.ca/show/priests-mill-summer-artists-market/2021-09-05/
LOCATION:Priest’s Mill Arts Centre\, 16 Mill Square\, Alexandria\, Ontario\, K0C 1A0\, Canada
ATTACH;FMTTYPE=image/jpeg:https://showwiz.ca/wp-content/uploads/2021/08/203582227_2616354895333058_2284111010516886733_n.jpg
ORGANIZER;CN="Priest%27s%20Mill%20Arts%20Centre":MAILTO:Gallery@priestsmill.com
GEO:45.310221;-74.6375799
X-APPLE-STRUCTURED-LOCATION;VALUE=URI;X-ADDRESS=Priest’s Mill Arts Centre 16 Mill Square Alexandria Ontario K0C 1A0 Canada;X-APPLE-RADIUS=500;X-TITLE=16 Mill Square:geo:-74.6375799,45.310221
END:VEVENT
END:VCALENDAR