BEGIN:VCALENDAR
VERSION:2.0
PRODID:-//ShowWiz - ECPv5.16.4//NONSGML v1.0//EN
CALSCALE:GREGORIAN
METHOD:PUBLISH
X-WR-CALNAME:ShowWiz
X-ORIGINAL-URL:https://showwiz.ca
X-WR-CALDESC:Events for ShowWiz
BEGIN:VTIMEZONE
TZID:America/Toronto
BEGIN:DAYLIGHT
TZOFFSETFROM:-0500
TZOFFSETTO:-0400
TZNAME:EDT
DTSTART:20220313T070000
END:DAYLIGHT
BEGIN:STANDARD
TZOFFSETFROM:-0400
TZOFFSETTO:-0500
TZNAME:EST
DTSTART:20221106T060000
END:STANDARD
END:VTIMEZONE
BEGIN:VEVENT
DTSTART;TZID=America/Toronto:20221001T170000
DTEND;TZID=America/Toronto:20221001T220000
DTSTAMP:20260424T034937
CREATED:20220427T092802Z
LAST-MODIFIED:20220427T092802Z
UID:20399-1664643600-1664661600@showwiz.ca
SUMMARY:Perth Night Market
DESCRIPTION:It’s back! Perth Tourism welcomes you to Perth Night Market – an evening to discover what Perth has to offer and much more. Wander the streets and encounter entertainers and artisans\, and dine and imbibe under the stars at our delicious restaurants and pubs. Shop as you stroll while surrounded by our beautiful heritage buildings\, with many shops open late.\nExperience the magic of Perth’s downtown streets and the serenity of Stewart Park at night.
URL:https://showwiz.ca/show/perth-night-market-3/
LOCATION:Downtown Perth\, 80 Gore Street E\, Perth\, Ontario\, K7H 1H9\, Canada
ORGANIZER;CN="Perth%20Tourism":MAILTO:tourism@perth.ca
GEO:44.8991188;-76.2489555
X-APPLE-STRUCTURED-LOCATION;VALUE=URI;X-ADDRESS=Downtown Perth 80 Gore Street E Perth Ontario K7H 1H9 Canada;X-APPLE-RADIUS=500;X-TITLE=80 Gore Street E:geo:-76.2489555,44.8991188
END:VEVENT
END:VCALENDAR