BEGIN:VCALENDAR
VERSION:2.0
PRODID:-//ShowWiz - ECPv5.16.4//NONSGML v1.0//EN
CALSCALE:GREGORIAN
METHOD:PUBLISH
X-WR-CALNAME:ShowWiz
X-ORIGINAL-URL:https://showwiz.ca
X-WR-CALDESC:Events for ShowWiz
BEGIN:VTIMEZONE
TZID:America/Toronto
BEGIN:DAYLIGHT
TZOFFSETFROM:-0500
TZOFFSETTO:-0400
TZNAME:EDT
DTSTART:20230312T070000
END:DAYLIGHT
BEGIN:STANDARD
TZOFFSETFROM:-0400
TZOFFSETTO:-0500
TZNAME:EST
DTSTART:20231105T060000
END:STANDARD
END:VTIMEZONE
BEGIN:VEVENT
DTSTART;TZID=America/Toronto:20230916T100000
DTEND;TZID=America/Toronto:20230916T180000
DTSTAMP:20260424T050238
CREATED:20230307T135810Z
LAST-MODIFIED:20230809T185441Z
UID:23202-1694858400-1694887200@showwiz.ca
SUMMARY:Ottawa Hot Sauce Expo
DESCRIPTION:Reserve Sept 16 for the hottest event in Ottawa!! The 3rd annual Heating up the Capital will be held at EY Centre on Uplands Drive\, Ottawa. 30 Canadian hot sauce makers with free samples\, spicy food challenges and YOW! Award winners!! The best sauces in Canada!!
URL:https://showwiz.ca/show/ottawa-hot-sauce-expo-5/
LOCATION:EY Centre\, 4899 Uplands Drive\, Ottawa\, Ontario\, K1V2N6\, Canada
ATTACH;FMTTYPE=image/jpeg:https://showwiz.ca/wp-content/uploads/2023/03/334431429_1339061719990447_7188277807588148055_n.jpg
ORGANIZER;CN="Haico%27s%20Hot%20Sauce":MAILTO:haicoshotsauce@gmail.com
GEO:45.3322081;-75.6541332
X-APPLE-STRUCTURED-LOCATION;VALUE=URI;X-ADDRESS=EY Centre 4899 Uplands Drive Ottawa Ontario K1V2N6 Canada;X-APPLE-RADIUS=500;X-TITLE=4899 Uplands Drive:geo:-75.6541332,45.3322081
END:VEVENT
END:VCALENDAR