BEGIN:VCALENDAR
VERSION:2.0
PRODID:-//ShowWiz - ECPv5.16.4//NONSGML v1.0//EN
CALSCALE:GREGORIAN
METHOD:PUBLISH
X-WR-CALNAME:ShowWiz
X-ORIGINAL-URL:https://showwiz.ca
X-WR-CALDESC:Events for ShowWiz
BEGIN:VTIMEZONE
TZID:America/Toronto
BEGIN:DAYLIGHT
TZOFFSETFROM:-0500
TZOFFSETTO:-0400
TZNAME:EDT
DTSTART:20200308T070000
END:DAYLIGHT
BEGIN:STANDARD
TZOFFSETFROM:-0400
TZOFFSETTO:-0500
TZNAME:EST
DTSTART:20201101T060000
END:STANDARD
END:VTIMEZONE
BEGIN:VEVENT
DTSTART;TZID=America/Toronto:20200502T093000
DTEND;TZID=America/Toronto:20200502T150000
DTSTAMP:20260425T062939
CREATED:20200219T204421Z
LAST-MODIFIED:20200612T220724Z
UID:13890-1588411800-1588431600@showwiz.ca
SUMMARY:Ottawa Farmers' Market at Westboro
DESCRIPTION:Westboro Market hosts over 60 local farmers\, producers\, bakers\, artisans\, and crafters every Saturday in the park! Free street parking is available to market visitors. Stay tuned for 2020 opening dates!
URL:https://showwiz.ca/show/ottawa-farmers-market-at-landsdowne-2/2020-05-02/
LOCATION:McKellar Park\, 539 Wavell Ave\, Ottawa\, Ontario\, K2A\, Canada
ATTACH;FMTTYPE=image/jpeg:https://showwiz.ca/wp-content/uploads/2019/02/12994527_1169583879727877_2432667974388744066_n.jpg
ORGANIZER;CN="Ottawa%20Farmers%27%20Market":MAILTO:https://ottawafarmersmarket.ca/
GEO:45.3833776;-75.7663437
X-APPLE-STRUCTURED-LOCATION;VALUE=URI;X-ADDRESS=McKellar Park 539 Wavell Ave Ottawa Ontario K2A Canada;X-APPLE-RADIUS=500;X-TITLE=539 Wavell Ave:geo:-75.7663437,45.3833776
END:VEVENT
END:VCALENDAR