BEGIN:VCALENDAR
VERSION:2.0
PRODID:-//ShowWiz - ECPv5.16.4//NONSGML v1.0//EN
CALSCALE:GREGORIAN
METHOD:PUBLISH
X-WR-CALNAME:ShowWiz
X-ORIGINAL-URL:https://showwiz.ca
X-WR-CALDESC:Events for ShowWiz
BEGIN:VTIMEZONE
TZID:America/Toronto
BEGIN:DAYLIGHT
TZOFFSETFROM:-0500
TZOFFSETTO:-0400
TZNAME:EDT
DTSTART:20200308T070000
END:DAYLIGHT
BEGIN:STANDARD
TZOFFSETFROM:-0400
TZOFFSETTO:-0500
TZNAME:EST
DTSTART:20201101T060000
END:STANDARD
END:VTIMEZONE
BEGIN:VEVENT
DTSTART;TZID=America/Toronto:20200502T090000
DTEND;TZID=America/Toronto:20200502T140000
DTSTAMP:20260425T100211
CREATED:20200302T230042Z
LAST-MODIFIED:20200516T015020Z
UID:14568-1588410000-1588428000@showwiz.ca
SUMMARY:Osgoode Township Museum's Pop-Up Market
DESCRIPTION:
URL:https://showwiz.ca/show/osgoode-township-museums-pop-up-market/
LOCATION:Osgooge Township Museum\, 7814 Lawrence Street\, Vernon\, Ontario\, K0A3J0\, Canada
ORGANIZER;CN="Osgoode%20Township%20Museum":MAILTO:manager@osgoodemuseum.ca
GEO:45.1599673;-75.4624929
X-APPLE-STRUCTURED-LOCATION;VALUE=URI;X-ADDRESS=Osgooge Township Museum 7814 Lawrence Street Vernon Ontario K0A3J0 Canada;X-APPLE-RADIUS=500;X-TITLE=7814 Lawrence Street:geo:-75.4624929,45.1599673
END:VEVENT
END:VCALENDAR