BEGIN:VCALENDAR
VERSION:2.0
PRODID:-//ShowWiz - ECPv5.16.4//NONSGML v1.0//EN
CALSCALE:GREGORIAN
METHOD:PUBLISH
X-WR-CALNAME:ShowWiz
X-ORIGINAL-URL:https://showwiz.ca
X-WR-CALDESC:Events for ShowWiz
BEGIN:VTIMEZONE
TZID:America/Toronto
BEGIN:DAYLIGHT
TZOFFSETFROM:-0500
TZOFFSETTO:-0400
TZNAME:EDT
DTSTART:20230312T070000
END:DAYLIGHT
BEGIN:STANDARD
TZOFFSETFROM:-0400
TZOFFSETTO:-0500
TZNAME:EST
DTSTART:20231105T060000
END:STANDARD
END:VTIMEZONE
BEGIN:VEVENT
DTSTART;TZID=America/Toronto:20230408T083000
DTEND;TZID=America/Toronto:20230408T140000
DTSTAMP:20260424T102812
CREATED:20230208T081754Z
LAST-MODIFIED:20230208T082137Z
UID:23050-1680942600-1680962400@showwiz.ca
SUMMARY:North Gower Farmer's Market Easter Market
DESCRIPTION:
URL:https://showwiz.ca/show/north-gower-farmers-market-easter-market/
LOCATION:Alfred Taylor Recreation Centre\, 2300 Community Way\, North Gower\, Ontario\, K0A2T0\, Canada
GEO:45.1301653;-75.7108896
X-APPLE-STRUCTURED-LOCATION;VALUE=URI;X-ADDRESS=Alfred Taylor Recreation Centre 2300 Community Way North Gower Ontario K0A2T0 Canada;X-APPLE-RADIUS=500;X-TITLE=2300 Community Way:geo:-75.7108896,45.1301653
END:VEVENT
END:VCALENDAR