BEGIN:VCALENDAR
VERSION:2.0
PRODID:-//ShowWiz - ECPv5.16.4//NONSGML v1.0//EN
CALSCALE:GREGORIAN
METHOD:PUBLISH
X-WR-CALNAME:ShowWiz
X-ORIGINAL-URL:https://showwiz.ca
X-WR-CALDESC:Events for ShowWiz
BEGIN:VTIMEZONE
TZID:America/Toronto
BEGIN:DAYLIGHT
TZOFFSETFROM:-0500
TZOFFSETTO:-0400
TZNAME:EDT
DTSTART:20210314T070000
END:DAYLIGHT
BEGIN:STANDARD
TZOFFSETFROM:-0400
TZOFFSETTO:-0500
TZNAME:EST
DTSTART:20211107T060000
END:STANDARD
END:VTIMEZONE
BEGIN:VEVENT
DTSTART;TZID=America/Toronto:20211026T160000
DTEND;TZID=America/Toronto:20211026T193000
DTSTAMP:20260424T074053
CREATED:20210924T051930Z
LAST-MODIFIED:20211025T030405Z
UID:19058-1635264000-1635276600@showwiz.ca
SUMMARY:My Local Markets- Nepean Night Market
DESCRIPTION:My Local Markets presents\, our first Night Market at our Nepean location! It’s going to be Spooktacular! \nGet ahead start on some local Christmas gifts with a fun sip\, shop & dine Halloween Market.\n\nAdmission Free: Donations of non perishables & cash accepted for the Caldwell Family Centre Foodbank\n 35 Vendors\nLive Music\nHot Meals from the onsite kitchen The Grilled Tomato. Enjoy inside\, or on the patio.\nAdult Beverages Available from the Urban Centre Bar\n Halloween Treats\nThis event is indoor/outdoor. Proof of Vaccination is required for indoor dining.
URL:https://showwiz.ca/show/my-local-markets-nepean-night-market/
LOCATION:Collab Space\, 70 Bongard Ave\, Ottawa\, Ontario\, K2E7Z9\, Canada
ATTACH;FMTTYPE=image/jpeg:https://showwiz.ca/wp-content/uploads/2021/09/244776883_400193931662791_3617310431538460868_n.jpg
ORGANIZER;CN="My%20Local%20Markets":MAILTO:shop@mylocalmarkets.ca
GEO:45.3313997;-75.7143815
X-APPLE-STRUCTURED-LOCATION;VALUE=URI;X-ADDRESS=Collab Space 70 Bongard Ave Ottawa Ontario K2E7Z9 Canada;X-APPLE-RADIUS=500;X-TITLE=70 Bongard Ave:geo:-75.7143815,45.3313997
END:VEVENT
END:VCALENDAR