BEGIN:VCALENDAR
VERSION:2.0
PRODID:-//ShowWiz - ECPv5.16.4//NONSGML v1.0//EN
CALSCALE:GREGORIAN
METHOD:PUBLISH
X-WR-CALNAME:ShowWiz
X-ORIGINAL-URL:https://showwiz.ca
X-WR-CALDESC:Events for ShowWiz
BEGIN:VTIMEZONE
TZID:America/Toronto
BEGIN:DAYLIGHT
TZOFFSETFROM:-0500
TZOFFSETTO:-0400
TZNAME:EDT
DTSTART:20230312T070000
END:DAYLIGHT
BEGIN:STANDARD
TZOFFSETFROM:-0400
TZOFFSETTO:-0500
TZNAME:EST
DTSTART:20231105T060000
END:STANDARD
END:VTIMEZONE
BEGIN:VEVENT
DTSTART;TZID=America/Toronto:20230506T100000
DTEND;TZID=America/Toronto:20230506T160000
DTSTAMP:20260424T102746
CREATED:20230222T081906Z
LAST-MODIFIED:20230223T033747Z
UID:23147-1683367200-1683388800@showwiz.ca
SUMMARY:Mother's Day Market
DESCRIPTION:
URL:https://showwiz.ca/show/mothers-day-market-3/
LOCATION:Leitrim Park\, 3290 Leitrim Road\, Gloucester\, Ontario\, K1T3Z4
ATTACH;FMTTYPE=image/jpeg:https://showwiz.ca/wp-content/uploads/2023/02/332759641_6170859029661336_6768819940823275508_n.jpg
ORGANIZER;CN="Victoria%20Vaudry":MAILTO:doggocakesandtreats@gmail.com
GEO:45.33126;-75.595316
X-APPLE-STRUCTURED-LOCATION;VALUE=URI;X-ADDRESS=Leitrim Park 3290 Leitrim Road Gloucester Ontario K1T3Z4;X-APPLE-RADIUS=500;X-TITLE=3290 Leitrim Road:geo:-75.595316,45.33126
END:VEVENT
END:VCALENDAR