BEGIN:VCALENDAR
VERSION:2.0
PRODID:-//ShowWiz - ECPv5.16.4//NONSGML v1.0//EN
CALSCALE:GREGORIAN
METHOD:PUBLISH
X-WR-CALNAME:ShowWiz
X-ORIGINAL-URL:https://showwiz.ca
X-WR-CALDESC:Events for ShowWiz
BEGIN:VTIMEZONE
TZID:America/Toronto
BEGIN:DAYLIGHT
TZOFFSETFROM:-0500
TZOFFSETTO:-0400
TZNAME:EDT
DTSTART:20200308T070000
END:DAYLIGHT
BEGIN:STANDARD
TZOFFSETFROM:-0400
TZOFFSETTO:-0500
TZNAME:EST
DTSTART:20201101T060000
END:STANDARD
END:VTIMEZONE
BEGIN:VEVENT
DTSTART;TZID=America/Toronto:20200502T090000
DTEND;TZID=America/Toronto:20200502T150000
DTSTAMP:20260425T082430
CREATED:20200318T022553Z
LAST-MODIFIED:20200503T211722Z
UID:15280-1588410000-1588431600@showwiz.ca
SUMMARY:Mother's Day Craft Vendor Show & Sale
DESCRIPTION:As promised we will be having another Spring Craft Vendor event in the event center of the Bay of Quinte Vintage Market.  Admission is free but we ask our customers to please bring a non-perishable food item for the Wellington Food Bank.
URL:https://showwiz.ca/show/mothers-day-craft-vendor-show-sale/2020-05-02/
LOCATION:Event Centre Bay of Quinte Vintage Market\, 2544 County Road 64\, Carrying Place\, Ontario\, K0K 1L0\, Canada
ATTACH;FMTTYPE=image/png:https://showwiz.ca/wp-content/uploads/2020/03/86810597_664196587454810_3592267301564448768_n.png
ORGANIZER;CN="Artisan%20Market%20at%20the%20Bay%20of%20Quinte%20Vintage%20Market":MAILTO:rickandheather1990@hotmail.com
GEO:44.0485651;-77.5824937
X-APPLE-STRUCTURED-LOCATION;VALUE=URI;X-ADDRESS=Event Centre Bay of Quinte Vintage Market 2544 County Road 64 Carrying Place Ontario K0K 1L0 Canada;X-APPLE-RADIUS=500;X-TITLE=2544 County Road 64:geo:-77.5824937,44.0485651
END:VEVENT
END:VCALENDAR