BEGIN:VCALENDAR
VERSION:2.0
PRODID:-//ShowWiz - ECPv5.16.4//NONSGML v1.0//EN
CALSCALE:GREGORIAN
METHOD:PUBLISH
X-WR-CALNAME:ShowWiz
X-ORIGINAL-URL:https://showwiz.ca
X-WR-CALDESC:Events for ShowWiz
BEGIN:VTIMEZONE
TZID:America/Toronto
BEGIN:DAYLIGHT
TZOFFSETFROM:-0500
TZOFFSETTO:-0400
TZNAME:EDT
DTSTART:20180311T070000
END:DAYLIGHT
BEGIN:STANDARD
TZOFFSETFROM:-0400
TZOFFSETTO:-0500
TZNAME:EST
DTSTART:20181104T060000
END:STANDARD
END:VTIMEZONE
BEGIN:VEVENT
DTSTART;TZID=America/Toronto:20181216T160000
DTEND;TZID=America/Toronto:20181216T200000
DTSTAMP:20260424T174846
CREATED:20181116T024955Z
LAST-MODIFIED:20190302T063026Z
UID:1542-1544976000-1544990400@showwiz.ca
SUMMARY:Moon Market / Solstice
DESCRIPTION:? \nWe are SO excited to show you a sweet combo of local makers and mystics!!!  \n?
URL:https://showwiz.ca/show/moon-market-solstice/
LOCATION:Pressed – Ottawa\, 750 Gladstone Avenue\, Ottawa\, Ontario\, K1R6X5\, Canada
ATTACH;FMTTYPE=image/jpeg:https://showwiz.ca/wp-content/uploads/2018/11/46495747_756524814699280_7107786187544199168_n.jpg
ORGANIZER;CN="City%20Witch":MAILTO:tess@thecitywitch.ca
GEO:45.406964;-75.7053169
X-APPLE-STRUCTURED-LOCATION;VALUE=URI;X-ADDRESS=Pressed – Ottawa 750 Gladstone Avenue Ottawa Ontario K1R6X5 Canada;X-APPLE-RADIUS=500;X-TITLE=750 Gladstone Avenue:geo:-75.7053169,45.406964
END:VEVENT
END:VCALENDAR