BEGIN:VCALENDAR
VERSION:2.0
PRODID:-//ShowWiz - ECPv5.16.4//NONSGML v1.0//EN
CALSCALE:GREGORIAN
METHOD:PUBLISH
X-WR-CALNAME:ShowWiz
X-ORIGINAL-URL:https://showwiz.ca
X-WR-CALDESC:Events for ShowWiz
BEGIN:VTIMEZONE
TZID:America/Toronto
BEGIN:DAYLIGHT
TZOFFSETFROM:-0500
TZOFFSETTO:-0400
TZNAME:EDT
DTSTART:20200308T070000
END:DAYLIGHT
BEGIN:STANDARD
TZOFFSETFROM:-0400
TZOFFSETTO:-0500
TZNAME:EST
DTSTART:20201101T060000
END:STANDARD
END:VTIMEZONE
BEGIN:VEVENT
DTSTART;TZID=America/Toronto:20201112T100000
DTEND;TZID=America/Toronto:20201112T170000
DTSTAMP:20260425T085342
CREATED:20201017T014017Z
LAST-MODIFIED:20201017T014017Z
UID:16939-1605175200-1605200400@showwiz.ca
SUMMARY:Mistletoe Magic's Holiday Retail POP-IN Shop
DESCRIPTION:
URL:https://showwiz.ca/show/mistletoe-magics-holiday-retail-pop-in-shop/2020-11-12/
LOCATION:Mistletoe Magic Pop-In Shop\, 261 Front Street\, Belleville\, Ontario\, K9N2Z6\, Canada
ATTACH;FMTTYPE=image/jpeg:https://showwiz.ca/wp-content/uploads/2020/10/121694680_3691012004250324_1494174223941827914_n.jpg
GEO:44.1655135;-77.3846131
X-APPLE-STRUCTURED-LOCATION;VALUE=URI;X-ADDRESS=Mistletoe Magic Pop-In Shop 261 Front Street Belleville Ontario K9N2Z6 Canada;X-APPLE-RADIUS=500;X-TITLE=261 Front Street:geo:-77.3846131,44.1655135
END:VEVENT
END:VCALENDAR