BEGIN:VCALENDAR
VERSION:2.0
PRODID:-//ShowWiz - ECPv5.16.4//NONSGML v1.0//EN
CALSCALE:GREGORIAN
METHOD:PUBLISH
X-WR-CALNAME:ShowWiz
X-ORIGINAL-URL:https://showwiz.ca
X-WR-CALDESC:Events for ShowWiz
BEGIN:VTIMEZONE
TZID:America/Toronto
BEGIN:DAYLIGHT
TZOFFSETFROM:-0500
TZOFFSETTO:-0400
TZNAME:EDT
DTSTART:20190310T070000
END:DAYLIGHT
BEGIN:STANDARD
TZOFFSETFROM:-0400
TZOFFSETTO:-0500
TZNAME:EST
DTSTART:20191103T060000
END:STANDARD
END:VTIMEZONE
BEGIN:VEVENT
DTSTART;TZID=America/Toronto:20191116T100000
DTEND;TZID=America/Toronto:20191116T160000
DTSTAMP:20260425T234408
CREATED:20190720T013558Z
LAST-MODIFIED:20190725T043656Z
UID:8069-1573898400-1573920000@showwiz.ca
SUMMARY:Mistletoe & Ivy Handmade Market
DESCRIPTION:A local Christmas market hosted by Grow Studios with locally handcrafted goods and artisan food and drinks.  \nAfter two awesome Mistletoe & Ivy Handmade Markets\, we’re back at it again\, and we’re planning on making this year’s show even better! Thanks to the feedback from our vendors and guests we’ve made some exciting changes\, while keeping the spirit of our market the same.  Mistletoe & Ivy aims to promote and support local handmade artisans and social enterprises\, and provide our guests with a diverse and friendly shopping experience.
URL:https://showwiz.ca/show/mistletoe-ivy-handmade-market-2/
LOCATION:allsaints Event Space\, 10 Blackburn Avenue\, Ottawa\, Ontario\, K1N6P9\, Canada
ATTACH;FMTTYPE=image/jpeg:https://showwiz.ca/wp-content/uploads/2019/07/Instagram-2019-Grow-Studios-1.jpg
ORGANIZER;CN="Grow%20Studios":MAILTO:info@growstudios.org
GEO:45.4272468;-75.6775308
X-APPLE-STRUCTURED-LOCATION;VALUE=URI;X-ADDRESS=allsaints Event Space 10 Blackburn Avenue Ottawa Ontario K1N6P9 Canada;X-APPLE-RADIUS=500;X-TITLE=10 Blackburn Avenue:geo:-75.6775308,45.4272468
END:VEVENT
END:VCALENDAR