BEGIN:VCALENDAR
VERSION:2.0
PRODID:-//ShowWiz - ECPv5.16.4//NONSGML v1.0//EN
CALSCALE:GREGORIAN
METHOD:PUBLISH
X-WR-CALNAME:ShowWiz
X-ORIGINAL-URL:https://showwiz.ca
X-WR-CALDESC:Events for ShowWiz
BEGIN:VTIMEZONE
TZID:America/Toronto
BEGIN:DAYLIGHT
TZOFFSETFROM:-0500
TZOFFSETTO:-0400
TZNAME:EDT
DTSTART:20230312T070000
END:DAYLIGHT
BEGIN:STANDARD
TZOFFSETFROM:-0400
TZOFFSETTO:-0500
TZNAME:EST
DTSTART:20231105T060000
END:STANDARD
END:VTIMEZONE
BEGIN:VEVENT
DTSTART;TZID=America/Toronto:20230408T090000
DTEND;TZID=America/Toronto:20230408T140000
DTSTAMP:20260424T121432
CREATED:20230113T052953Z
LAST-MODIFIED:20230113T052953Z
UID:22592-1680944400-1680962400@showwiz.ca
SUMMARY:Metcalfe Farmers' Market Easter Market
DESCRIPTION:Save the date!
URL:https://showwiz.ca/show/metcalfe-farmers-market-easter-market-2/
LOCATION:Greely Community Centre\, 1448 Meadow Drive\, Greely\, Ontario\, K4P1B1\, Canada
ATTACH;FMTTYPE=image/jpeg:https://showwiz.ca/wp-content/uploads/2023/01/324464100_725794858773908_2884864644336135672_n.jpg
GEO:45.2609323;-75.5565941
X-APPLE-STRUCTURED-LOCATION;VALUE=URI;X-ADDRESS=Greely Community Centre 1448 Meadow Drive Greely Ontario K4P1B1 Canada;X-APPLE-RADIUS=500;X-TITLE=1448 Meadow Drive:geo:-75.5565941,45.2609323
END:VEVENT
END:VCALENDAR