BEGIN:VCALENDAR
VERSION:2.0
PRODID:-//ShowWiz - ECPv5.16.4//NONSGML v1.0//EN
CALSCALE:GREGORIAN
METHOD:PUBLISH
X-WR-CALNAME:ShowWiz
X-ORIGINAL-URL:https://showwiz.ca
X-WR-CALDESC:Events for ShowWiz
BEGIN:VTIMEZONE
TZID:America/Toronto
BEGIN:DAYLIGHT
TZOFFSETFROM:-0500
TZOFFSETTO:-0400
TZNAME:EDT
DTSTART:20220313T070000
END:DAYLIGHT
BEGIN:STANDARD
TZOFFSETFROM:-0400
TZOFFSETTO:-0500
TZNAME:EST
DTSTART:20221106T060000
END:STANDARD
END:VTIMEZONE
BEGIN:VEVENT
DTSTART;TZID=America/Toronto:20220528T100000
DTEND;TZID=America/Toronto:20220528T150000
DTSTAMP:20260424T022848
CREATED:20220415T035048Z
LAST-MODIFIED:20220427T064244Z
UID:20220-1653732000-1653750000@showwiz.ca
SUMMARY:Merrickville's Makers Market
DESCRIPTION:Our first outdoor market of 2022! Over 60 makers\, all original wares\, free admission.
URL:https://showwiz.ca/show/merrickvilles-makers-market/
LOCATION:Merrickville Fair\, 106 Read Street\, Merrickville\, Ontario\, K0G1N0\, Canada
ATTACH;FMTTYPE=image/jpeg:https://showwiz.ca/wp-content/uploads/2022/04/278689291_3206164986306920_2745909177234869102_n.jpg
ORGANIZER;CN="Merrickville%27s%20Makers%20Market":MAILTO:laurajeanstarkey@yahoo.ca
GEO:44.9153318;-75.8421894
X-APPLE-STRUCTURED-LOCATION;VALUE=URI;X-ADDRESS=Merrickville Fair 106 Read Street Merrickville Ontario K0G1N0 Canada;X-APPLE-RADIUS=500;X-TITLE=106 Read Street:geo:-75.8421894,44.9153318
END:VEVENT
END:VCALENDAR