BEGIN:VCALENDAR
VERSION:2.0
PRODID:-//ShowWiz - ECPv5.16.4//NONSGML v1.0//EN
CALSCALE:GREGORIAN
METHOD:PUBLISH
X-WR-CALNAME:ShowWiz
X-ORIGINAL-URL:https://showwiz.ca
X-WR-CALDESC:Events for ShowWiz
BEGIN:VTIMEZONE
TZID:America/Toronto
BEGIN:DAYLIGHT
TZOFFSETFROM:-0500
TZOFFSETTO:-0400
TZNAME:EDT
DTSTART:20230312T070000
END:DAYLIGHT
BEGIN:STANDARD
TZOFFSETFROM:-0400
TZOFFSETTO:-0500
TZNAME:EST
DTSTART:20231105T060000
END:STANDARD
END:VTIMEZONE
BEGIN:VEVENT
DTSTART;TZID=America/Toronto:20231105T100000
DTEND;TZID=America/Toronto:20231105T160000
DTSTAMP:20260424T134005
CREATED:20230927T155901Z
LAST-MODIFIED:20230927T155930Z
UID:24104-1699178400-1699200000@showwiz.ca
SUMMARY:Merrickville's Makers Christmas Market
DESCRIPTION:30 different makers each day\nAll original wares\nFree admission
URL:https://showwiz.ca/show/merrickvilles-makers-christmas-market/2023-11-05/
LOCATION:Merrickville Community Centre\, 106 Read Street\, Merrickville\, Ontario\, K0G1N0\, Canada
ATTACH;FMTTYPE=image/jpeg:https://showwiz.ca/wp-content/uploads/2023/09/382076838_781090140693591_5871991631568616204_n.jpg
ORGANIZER;CN="Merrickville%27s%20Makers%20Market":MAILTO:laurajeanstarkey@yahoo.ca
GEO:44.9153318;-75.8421894
X-APPLE-STRUCTURED-LOCATION;VALUE=URI;X-ADDRESS=Merrickville Community Centre 106 Read Street Merrickville Ontario K0G1N0 Canada;X-APPLE-RADIUS=500;X-TITLE=106 Read Street:geo:-75.8421894,44.9153318
END:VEVENT
END:VCALENDAR