BEGIN:VCALENDAR
VERSION:2.0
PRODID:-//ShowWiz - ECPv5.16.4//NONSGML v1.0//EN
CALSCALE:GREGORIAN
METHOD:PUBLISH
X-WR-CALNAME:ShowWiz
X-ORIGINAL-URL:https://showwiz.ca
X-WR-CALDESC:Events for ShowWiz
BEGIN:VTIMEZONE
TZID:America/Toronto
BEGIN:DAYLIGHT
TZOFFSETFROM:-0500
TZOFFSETTO:-0400
TZNAME:EDT
DTSTART:20190310T070000
END:DAYLIGHT
BEGIN:STANDARD
TZOFFSETFROM:-0400
TZOFFSETTO:-0500
TZNAME:EST
DTSTART:20191103T060000
END:STANDARD
END:VTIMEZONE
BEGIN:VEVENT
DTSTART;TZID=America/Toronto:20190505T090000
DTEND;TZID=America/Toronto:20190505T140000
DTSTAMP:20260425T063111
CREATED:20190410T040617Z
LAST-MODIFIED:20190410T040756Z
UID:5503-1557046800-1557064800@showwiz.ca
SUMMARY:Memorial Centre Farmers' Market
DESCRIPTION:We are giving our vendors a break for the long weekend\, so get all your ingredients\, treats and fixings for the long weekend on the Thursday night instead! \nFeaturing a spring-themed barn PACKED with all your favourite local  foods\, fresh produce\, meats and alternatives\, sauces & preserves\, artisan crafts\, live music\, kid’s activities and more!
URL:https://showwiz.ca/show/memorial-centre-farmers-market/2019-05-05/
LOCATION:Memorial Centre Park – Kingston\, 303 York Street\, Kingston\, Ontario\, K7K1R7\, Canada
ATTACH;FMTTYPE=image/png:https://showwiz.ca/wp-content/uploads/2019/04/26230977_1784290468271974_2574656684008856000_n.png
ORGANIZER;CN="Memorial%20Centre%20Farmers%27%20Market%20-%20Kingston":MAILTO:info@memorialcentremarket.ca
GEO:44.2392472;-76.5000344
X-APPLE-STRUCTURED-LOCATION;VALUE=URI;X-ADDRESS=Memorial Centre Park – Kingston 303 York Street Kingston Ontario K7K1R7 Canada;X-APPLE-RADIUS=500;X-TITLE=303 York Street:geo:-76.5000344,44.2392472
END:VEVENT
END:VCALENDAR