BEGIN:VCALENDAR
VERSION:2.0
PRODID:-//ShowWiz - ECPv5.16.4//NONSGML v1.0//EN
CALSCALE:GREGORIAN
METHOD:PUBLISH
X-WR-CALNAME:ShowWiz
X-ORIGINAL-URL:https://showwiz.ca
X-WR-CALDESC:Events for ShowWiz
BEGIN:VTIMEZONE
TZID:America/Toronto
BEGIN:DAYLIGHT
TZOFFSETFROM:-0500
TZOFFSETTO:-0400
TZNAME:EDT
DTSTART:20200308T070000
END:DAYLIGHT
BEGIN:STANDARD
TZOFFSETFROM:-0400
TZOFFSETTO:-0500
TZNAME:EST
DTSTART:20201101T060000
END:STANDARD
END:VTIMEZONE
BEGIN:VEVENT
DTSTART;VALUE=DATE:20200801
DTEND;VALUE=DATE:20200802
DTSTAMP:20260425T104516
CREATED:20200619T213459Z
LAST-MODIFIED:20230122T200114Z
UID:15992-1596240000-1596326399@showwiz.ca
SUMMARY:Marché virtuel Etsy Fait au Québec en Outaouais
DESCRIPTION:
URL:https://showwiz.ca/show/marche-virtuel-etsy-fait-au-quebec-en-outaouais/
LOCATION:Online
ATTACH;FMTTYPE=image/jpeg:https://showwiz.ca/wp-content/uploads/2020/06/104055936_1542908742537722_7698373515345513598_n-e1592602483241.jpg
ORGANIZER;CN="Etsy%20Outaouais":MAILTO:etsyoutaouais@gmail.com
END:VEVENT
END:VCALENDAR