BEGIN:VCALENDAR
VERSION:2.0
PRODID:-//ShowWiz - ECPv5.16.4//NONSGML v1.0//EN
CALSCALE:GREGORIAN
METHOD:PUBLISH
X-WR-CALNAME:ShowWiz
X-ORIGINAL-URL:https://showwiz.ca
X-WR-CALDESC:Events for ShowWiz
BEGIN:VTIMEZONE
TZID:America/Toronto
BEGIN:DAYLIGHT
TZOFFSETFROM:-0500
TZOFFSETTO:-0400
TZNAME:EDT
DTSTART:20190310T070000
END:DAYLIGHT
BEGIN:STANDARD
TZOFFSETFROM:-0400
TZOFFSETTO:-0500
TZNAME:EST
DTSTART:20191103T060000
END:STANDARD
END:VTIMEZONE
BEGIN:VEVENT
DTSTART;TZID=America/Toronto:20190331T110000
DTEND;TZID=America/Toronto:20190331T160000
DTSTAMP:20260424T203941
CREATED:20190318T035227Z
LAST-MODIFIED:20190318T183928Z
UID:4606-1554030000-1554048000@showwiz.ca
SUMMARY:March into a Shopping Spree
DESCRIPTION:It’s been such a long cold winter and March is now here\, now is the time to shed the winter blues (and pounds).  We will have a day full of healthy ideas\, snacks and chit chat. Come on over and experience some all new healthy drinks\, read some great quotes and poems\, and do some networking. Look forward to seeing all your smiling faces.\nWe will have some draws for free products.
URL:https://showwiz.ca/show/march-into-a-shopping-spree/
LOCATION:Royal Canadian Legion Branch 595 – Strathcona\, 1940B Bank St\, Ottawa\, Ontario\, K1V8B1\, Canada
ATTACH;FMTTYPE=image/jpeg:https://showwiz.ca/wp-content/uploads/2019/03/53864570_10156761846151351_1723875717994774528_n.jpg
ORGANIZER;CN="Nicole%20Charlebois":MAILTO:nickynaks@gmail.com
GEO:45.3675274;-75.6623477
X-APPLE-STRUCTURED-LOCATION;VALUE=URI;X-ADDRESS=Royal Canadian Legion Branch 595 – Strathcona 1940B Bank St Ottawa Ontario K1V8B1 Canada;X-APPLE-RADIUS=500;X-TITLE=1940B Bank St:geo:-75.6623477,45.3675274
END:VEVENT
END:VCALENDAR