BEGIN:VCALENDAR
VERSION:2.0
PRODID:-//ShowWiz - ECPv5.16.4//NONSGML v1.0//EN
CALSCALE:GREGORIAN
METHOD:PUBLISH
X-WR-CALNAME:ShowWiz
X-ORIGINAL-URL:https://showwiz.ca
X-WR-CALDESC:Events for ShowWiz
BEGIN:VTIMEZONE
TZID:America/Toronto
BEGIN:DAYLIGHT
TZOFFSETFROM:-0500
TZOFFSETTO:-0400
TZNAME:EDT
DTSTART:20220313T070000
END:DAYLIGHT
BEGIN:STANDARD
TZOFFSETFROM:-0400
TZOFFSETTO:-0500
TZNAME:EST
DTSTART:20221106T060000
END:STANDARD
END:VTIMEZONE
BEGIN:VEVENT
DTSTART;TZID=America/Toronto:20220430T120000
DTEND;TZID=America/Toronto:20220430T160000
DTSTAMP:20260424T185821
CREATED:20220411T035254Z
LAST-MODIFIED:20220411T035254Z
UID:20174-1651320000-1651334400@showwiz.ca
SUMMARY:Maker Craft Expo
DESCRIPTION:Onsite BBQ & many local talented vendors \n  \nAll proceeds given to the wounded warriors of Canada.
URL:https://showwiz.ca/show/maker-craft-expo/
LOCATION:CannaConnect\, 215 Menten Place\, Nepean\, Ontario\, K2H9C1\, Canada
ATTACH;FMTTYPE=image/jpeg:https://showwiz.ca/wp-content/uploads/2022/04/278129606_10166034491635526_8555521962228877825_n.jpg
ORGANIZER;CN="Crafting%20Owl%20Co":MAILTO:craftingowlco@gmail.com
GEO:45.326651;-75.8333498
X-APPLE-STRUCTURED-LOCATION;VALUE=URI;X-ADDRESS=CannaConnect 215 Menten Place Nepean Ontario K2H9C1 Canada;X-APPLE-RADIUS=500;X-TITLE=215 Menten Place:geo:-75.8333498,45.326651
END:VEVENT
END:VCALENDAR