BEGIN:VCALENDAR
VERSION:2.0
PRODID:-//ShowWiz - ECPv5.16.4//NONSGML v1.0//EN
CALSCALE:GREGORIAN
METHOD:PUBLISH
X-WR-CALNAME:ShowWiz
X-ORIGINAL-URL:https://showwiz.ca
X-WR-CALDESC:Events for ShowWiz
BEGIN:VTIMEZONE
TZID:America/Toronto
BEGIN:DAYLIGHT
TZOFFSETFROM:-0500
TZOFFSETTO:-0400
TZNAME:EDT
DTSTART:20220313T070000
END:DAYLIGHT
BEGIN:STANDARD
TZOFFSETFROM:-0400
TZOFFSETTO:-0500
TZNAME:EST
DTSTART:20221106T060000
END:STANDARD
END:VTIMEZONE
BEGIN:VEVENT
DTSTART;TZID=America/Toronto:20221120T100000
DTEND;TZID=America/Toronto:20221120T160000
DTSTAMP:20260424T160954
CREATED:20221117T041128Z
LAST-MODIFIED:20221117T041156Z
UID:22395-1668938400-1668960000@showwiz.ca
SUMMARY:Let It Snow Christmas Craft Show
DESCRIPTION:3rd Annual Let it Snow Christmas Craft Show\nSunday\, Nov 20th\n10am-4pm\nPembroke Knights of Columbus Hall\n170 Ellis Ave. Pembroke\, ON\n** first 30 Shoppers will receive a Swag Bags\n* Toy Drive(accepting New\, Unwrapped Toys) * Family & Children’s Services of Renfrew County\n* 45+ Crafters & Vendors(Indoor & Outdoor)\n* Plenty of parking\n* Admission is free\n* Santa 1-2\n* Don’t forget your letter Santa please include a return address\n* Outdoor Christmas Photo Op
URL:https://showwiz.ca/show/let-it-snow-christmas-craft-show-2/
LOCATION:Pembroke Knights of Columbus Hall\, 170 Ellis Avenue\, Pembroke\, Ontario\, K8A2H9\, Canada
ATTACH;FMTTYPE=image/jpeg:https://showwiz.ca/wp-content/uploads/2022/11/300475711_10219065423901199_6908838604897054663_n.jpg
ORGANIZER;CN="Valley%20Markets%20By%20Krista":MAILTO:bkcliche@outlook.com
GEO:45.8119843;-77.1093593
X-APPLE-STRUCTURED-LOCATION;VALUE=URI;X-ADDRESS=Pembroke Knights of Columbus Hall 170 Ellis Avenue Pembroke Ontario K8A2H9 Canada;X-APPLE-RADIUS=500;X-TITLE=170 Ellis Avenue:geo:-77.1093593,45.8119843
END:VEVENT
END:VCALENDAR