BEGIN:VCALENDAR
VERSION:2.0
PRODID:-//ShowWiz - ECPv5.16.4//NONSGML v1.0//EN
CALSCALE:GREGORIAN
METHOD:PUBLISH
X-WR-CALNAME:ShowWiz
X-ORIGINAL-URL:https://showwiz.ca
X-WR-CALDESC:Events for ShowWiz
BEGIN:VTIMEZONE
TZID:America/Toronto
BEGIN:DAYLIGHT
TZOFFSETFROM:-0500
TZOFFSETTO:-0400
TZNAME:EDT
DTSTART:20190310T070000
END:DAYLIGHT
BEGIN:STANDARD
TZOFFSETFROM:-0400
TZOFFSETTO:-0500
TZNAME:EST
DTSTART:20191103T060000
END:STANDARD
END:VTIMEZONE
BEGIN:VEVENT
DTSTART;TZID=America/Toronto:20191006T103000
DTEND;TZID=America/Toronto:20191006T160000
DTSTAMP:20260424T100106
CREATED:20190701T050214Z
LAST-MODIFIED:20190701T050214Z
UID:6907-1570357800-1570377600@showwiz.ca
SUMMARY:Les éphémères: Marché d'automne
DESCRIPTION:
URL:https://showwiz.ca/show/les-ephemeres-marche-dautomne/
ORGANIZER;CN="Les%20%C3%A9ph%C3%A9m%C3%A8res":MAILTO:lesephemeres2019@outlook.com
END:VEVENT
END:VCALENDAR