BEGIN:VCALENDAR
VERSION:2.0
PRODID:-//ShowWiz - ECPv5.16.4//NONSGML v1.0//EN
CALSCALE:GREGORIAN
METHOD:PUBLISH
X-WR-CALNAME:ShowWiz
X-ORIGINAL-URL:https://showwiz.ca
X-WR-CALDESC:Events for ShowWiz
BEGIN:VTIMEZONE
TZID:America/Toronto
BEGIN:DAYLIGHT
TZOFFSETFROM:-0500
TZOFFSETTO:-0400
TZNAME:EDT
DTSTART:20190310T070000
END:DAYLIGHT
BEGIN:STANDARD
TZOFFSETFROM:-0400
TZOFFSETTO:-0500
TZNAME:EST
DTSTART:20191103T060000
END:STANDARD
END:VTIMEZONE
BEGIN:VEVENT
DTSTART;TZID=America/Toronto:20191116T100000
DTEND;TZID=America/Toronto:20191116T140000
DTSTAMP:20260425T144859
CREATED:20191017T203518Z
LAST-MODIFIED:20191017T203518Z
UID:9936-1573898400-1573912800@showwiz.ca
SUMMARY:Land O' Lakes Lions Club Christmas Craft Show
DESCRIPTION:You have got to come out and see the local artisans in Northbrook.
URL:https://showwiz.ca/show/land-o-lakes-lions-club-christmas-craft-show/
LOCATION:Lions Club of Land O Lakes Community Hall\, 12 Firehall Rd\, Northbrook\, Ontario\, K0H2G0\, Canada
ATTACH;FMTTYPE=image/jpeg:https://showwiz.ca/wp-content/uploads/2019/10/72774639_2451750718394249_3094702113486274560_n.jpg
ORGANIZER;CN="Lions%20Club%20of%20Land%20O%20Lakes":MAILTO:lionsspecialevents@gmail.com
GEO:44.7360215;-77.1613721
X-APPLE-STRUCTURED-LOCATION;VALUE=URI;X-ADDRESS=Lions Club of Land O Lakes Community Hall 12 Firehall Rd Northbrook Ontario K0H2G0 Canada;X-APPLE-RADIUS=500;X-TITLE=12 Firehall Rd:geo:-77.1613721,44.7360215
END:VEVENT
END:VCALENDAR