BEGIN:VCALENDAR
VERSION:2.0
PRODID:-//ShowWiz - ECPv5.16.4//NONSGML v1.0//EN
CALSCALE:GREGORIAN
METHOD:PUBLISH
X-WR-CALNAME:ShowWiz
X-ORIGINAL-URL:https://showwiz.ca
X-WR-CALDESC:Events for ShowWiz
BEGIN:VTIMEZONE
TZID:America/Toronto
BEGIN:DAYLIGHT
TZOFFSETFROM:-0500
TZOFFSETTO:-0400
TZNAME:EDT
DTSTART:20190310T070000
END:DAYLIGHT
BEGIN:STANDARD
TZOFFSETFROM:-0400
TZOFFSETTO:-0500
TZNAME:EST
DTSTART:20191103T060000
END:STANDARD
END:VTIMEZONE
BEGIN:VEVENT
DTSTART;TZID=America/Toronto:20191006T100000
DTEND;TZID=America/Toronto:20191006T160000
DTSTAMP:20260424T144850
CREATED:20190304T003817Z
LAST-MODIFIED:20190304T003817Z
UID:4307-1570356000-1570377600@showwiz.ca
SUMMARY:Kingston ComiCon - Pop Culture Con
DESCRIPTION:FOOD DONATIONS = FANTASTIC PRIZES:\nPlease bring food items for the local food bank!\nReceive One  ??????  ticket per item!
URL:https://showwiz.ca/show/kingston-comicon-pop-culture-con/
LOCATION:Portuguese Cultural Centre of Kingston\, 959 Division St\, Kingston\, Ontario\, K7K4C8\, Canada
ATTACH;FMTTYPE=image/jpeg:https://showwiz.ca/wp-content/uploads/2019/03/50730813_2046171802086523_5029520266846273536_n.jpg
ORGANIZER;CN="Pop%20Culture%20Canada":MAILTO:popculturecan@gmail.com
GEO:44.2591439;-76.4971914
X-APPLE-STRUCTURED-LOCATION;VALUE=URI;X-ADDRESS=Portuguese Cultural Centre of Kingston 959 Division St Kingston Ontario K7K4C8 Canada;X-APPLE-RADIUS=500;X-TITLE=959 Division St:geo:-76.4971914,44.2591439
END:VEVENT
END:VCALENDAR