BEGIN:VCALENDAR
VERSION:2.0
PRODID:-//ShowWiz - ECPv5.16.4//NONSGML v1.0//EN
CALSCALE:GREGORIAN
METHOD:PUBLISH
X-WR-CALNAME:ShowWiz
X-ORIGINAL-URL:https://showwiz.ca
X-WR-CALDESC:Events for ShowWiz
BEGIN:VTIMEZONE
TZID:America/Toronto
BEGIN:DAYLIGHT
TZOFFSETFROM:-0500
TZOFFSETTO:-0400
TZNAME:EDT
DTSTART:20190310T070000
END:DAYLIGHT
BEGIN:STANDARD
TZOFFSETFROM:-0400
TZOFFSETTO:-0500
TZNAME:EST
DTSTART:20191103T060000
END:STANDARD
END:VTIMEZONE
BEGIN:VEVENT
DTSTART;TZID=America/Toronto:20190831T100000
DTEND;TZID=America/Toronto:20190831T200000
DTSTAMP:20260425T170113
CREATED:20190627T050204Z
LAST-MODIFIED:20190627T050204Z
UID:6813-1567245600-1567281600@showwiz.ca
SUMMARY:JoyFest
DESCRIPTION:JoyFest is a two-day summer festival held just outside of Ottawa\, ON. It is brimming with live music\, song\, dance\, laughter\, cirque\, drumming\, art\, nature\, inspiration\, conversation\, storytelling and sensorial celebration!
URL:https://showwiz.ca/show/joyfest/2019-08-31/
LOCATION:Carp Ridge Ecowellness Centre\, 4596 Carp Rd\, Carp\, Ontario\, K0A1L0\, Canada
ATTACH;FMTTYPE=image/jpeg:https://showwiz.ca/wp-content/uploads/2019/06/55576093_835518040114554_8657672213442330624_n.jpg
ORGANIZER;CN="Joyfest":MAILTO:info@joyfest.ca
GEO:45.3732956;-76.0930397
X-APPLE-STRUCTURED-LOCATION;VALUE=URI;X-ADDRESS=Carp Ridge Ecowellness Centre 4596 Carp Rd Carp Ontario K0A1L0 Canada;X-APPLE-RADIUS=500;X-TITLE=4596 Carp Rd:geo:-76.0930397,45.3732956
END:VEVENT
END:VCALENDAR