BEGIN:VCALENDAR
VERSION:2.0
PRODID:-//ShowWiz - ECPv5.16.4//NONSGML v1.0//EN
CALSCALE:GREGORIAN
METHOD:PUBLISH
X-WR-CALNAME:ShowWiz
X-ORIGINAL-URL:https://showwiz.ca
X-WR-CALDESC:Events for ShowWiz
BEGIN:VTIMEZONE
TZID:America/Toronto
BEGIN:DAYLIGHT
TZOFFSETFROM:-0500
TZOFFSETTO:-0400
TZNAME:EDT
DTSTART:20180311T070000
END:DAYLIGHT
BEGIN:STANDARD
TZOFFSETFROM:-0400
TZOFFSETTO:-0500
TZNAME:EST
DTSTART:20181104T060000
END:STANDARD
END:VTIMEZONE
BEGIN:VEVENT
DTSTART;TZID=America/Toronto:20181209T100000
DTEND;TZID=America/Toronto:20181209T140000
DTSTAMP:20260426T000345
CREATED:20181212T211931Z
LAST-MODIFIED:20190302T203116Z
UID:1833-1544349600-1544364000@showwiz.ca
SUMMARY:Holiday Sale at ALE
DESCRIPTION:Introducing\, our Holiday Sale at ALE! Support local business this holiday season and attend this incredible craft show\, Sunday\, December 9th from 10AM-2PM! \nAttend and be entered for a chance to WIN a High Tea Experience for 4 guests at ALE!  \nFree Admission!\nBreakfast & Lunch Available!
URL:https://showwiz.ca/show/holiday-sale-at-ale/
LOCATION:ALE – Amberwood Lounge & Eatery\, 54 Springbrook Drive\, Stittsville\, Ontario\, K2S1B9\, Canada
ATTACH;FMTTYPE=image/jpeg:https://showwiz.ca/wp-content/uploads/2019/02/46067390_1822411254552391_6209750350342127616_n.jpg
GEO:45.2713193;-75.9236111
X-APPLE-STRUCTURED-LOCATION;VALUE=URI;X-ADDRESS=ALE – Amberwood Lounge & Eatery 54 Springbrook Drive Stittsville Ontario K2S1B9 Canada;X-APPLE-RADIUS=500;X-TITLE=54 Springbrook Drive:geo:-75.9236111,45.2713193
END:VEVENT
END:VCALENDAR