BEGIN:VCALENDAR
VERSION:2.0
PRODID:-//ShowWiz - ECPv5.16.4//NONSGML v1.0//EN
CALSCALE:GREGORIAN
METHOD:PUBLISH
X-WR-CALNAME:ShowWiz
X-ORIGINAL-URL:https://showwiz.ca
X-WR-CALDESC:Events for ShowWiz
BEGIN:VTIMEZONE
TZID:America/Toronto
BEGIN:DAYLIGHT
TZOFFSETFROM:-0500
TZOFFSETTO:-0400
TZNAME:EDT
DTSTART:20190310T070000
END:DAYLIGHT
BEGIN:STANDARD
TZOFFSETFROM:-0400
TZOFFSETTO:-0500
TZNAME:EST
DTSTART:20191103T060000
END:STANDARD
END:VTIMEZONE
BEGIN:VEVENT
DTSTART;TZID=America/Toronto:20190504T090000
DTEND;TZID=America/Toronto:20190504T150000
DTSTAMP:20260425T062933
CREATED:20190330T143105Z
LAST-MODIFIED:20190401T024711Z
UID:5198-1556960400-1556982000@showwiz.ca
SUMMARY:Harmony Public School Vendor & Craft Sale
DESCRIPTION:Harmony’s school council is hosting its third annual Spring vendor and craft sale.  \n$2 admission which gives you a ticket to win a door prize. Door prizes are donated by our vendors.  \nCome out and support this fun event. All money raised goes directly back to Harmony Public School. \nReturning this year the Husky Cafe.
URL:https://showwiz.ca/show/harmony-public-school-vendor-craft-sale/
LOCATION:Harmony Public School – Corbyville\, 626 Harmony Road\, Corbyville\, Ontario\, K0K1V0\, Canada
ATTACH;FMTTYPE=image/jpeg:https://showwiz.ca/wp-content/uploads/2019/03/53544467_2702905216416285_406022542894039040_n.jpg
ORGANIZER;CN="Harmony%20Public%20School%20-%20Corbyville":MAILTO:patty.trishbelford@gmail.com
GEO:44.2403611;-77.3846579
X-APPLE-STRUCTURED-LOCATION;VALUE=URI;X-ADDRESS=Harmony Public School – Corbyville 626 Harmony Road Corbyville Ontario K0K1V0 Canada;X-APPLE-RADIUS=500;X-TITLE=626 Harmony Road:geo:-77.3846579,44.2403611
END:VEVENT
END:VCALENDAR