BEGIN:VCALENDAR
VERSION:2.0
PRODID:-//ShowWiz - ECPv5.16.4//NONSGML v1.0//EN
CALSCALE:GREGORIAN
METHOD:PUBLISH
X-WR-CALNAME:ShowWiz
X-ORIGINAL-URL:https://showwiz.ca
X-WR-CALDESC:Events for ShowWiz
BEGIN:VTIMEZONE
TZID:America/Toronto
BEGIN:DAYLIGHT
TZOFFSETFROM:-0500
TZOFFSETTO:-0400
TZNAME:EDT
DTSTART:20220313T070000
END:DAYLIGHT
BEGIN:STANDARD
TZOFFSETFROM:-0400
TZOFFSETTO:-0500
TZNAME:EST
DTSTART:20221106T060000
END:STANDARD
END:VTIMEZONE
BEGIN:VEVENT
DTSTART;TZID=America/Toronto:20221030T090000
DTEND;TZID=America/Toronto:20221030T140000
DTSTAMP:20260424T065539
CREATED:20221018T214132Z
LAST-MODIFIED:20221018T214132Z
UID:22058-1667120400-1667138400@showwiz.ca
SUMMARY:Halloween Vendors & Craft Show
DESCRIPTION:We invite you to the Pembroke Legions Halloween Vendor and Craft Show! Join us on October 30th from 9am-2pm. We have 30 vendors for you to check out and shop from. We will have swags for the first 30 shoppers with lots of goodies from our vendors! Costumes and Halloween spirit are strongly encouraged!
URL:https://showwiz.ca/show/halloween-vendors-craft-show/
LOCATION:Royal Canadian Legion Branch 72 – Pembroke\, 202 Pembroke Street East\, Pembroke\, Ontario\, K8A3J7
ATTACH;FMTTYPE=image/jpeg:https://showwiz.ca/wp-content/uploads/2022/10/306198446_10160797761589575_6114830612239240544_n.jpg
GEO:45.8263739;-77.1093714
X-APPLE-STRUCTURED-LOCATION;VALUE=URI;X-ADDRESS=Royal Canadian Legion Branch 72 – Pembroke 202 Pembroke Street East Pembroke Ontario K8A3J7;X-APPLE-RADIUS=500;X-TITLE=202 Pembroke Street East:geo:-77.1093714,45.8263739
END:VEVENT
END:VCALENDAR