BEGIN:VCALENDAR
VERSION:2.0
PRODID:-//ShowWiz - ECPv5.16.4//NONSGML v1.0//EN
CALSCALE:GREGORIAN
METHOD:PUBLISH
X-WR-CALNAME:ShowWiz
X-ORIGINAL-URL:https://showwiz.ca
X-WR-CALDESC:Events for ShowWiz
BEGIN:VTIMEZONE
TZID:America/Toronto
BEGIN:DAYLIGHT
TZOFFSETFROM:-0500
TZOFFSETTO:-0400
TZNAME:EDT
DTSTART:20190310T070000
END:DAYLIGHT
BEGIN:STANDARD
TZOFFSETFROM:-0400
TZOFFSETTO:-0500
TZNAME:EST
DTSTART:20191103T060000
END:STANDARD
END:VTIMEZONE
BEGIN:VEVENT
DTSTART;TZID=America/Toronto:20191116T100000
DTEND;TZID=America/Toronto:20191116T153000
DTSTAMP:20260425T220223
CREATED:20190731T031205Z
LAST-MODIFIED:20190731T031205Z
UID:8263-1573898400-1573918200@showwiz.ca
SUMMARY:Gowling Christmas & Holiday Craft Show
DESCRIPTION:
URL:https://showwiz.ca/show/gowling-christmas-holiday-craft-show-2/
LOCATION:W.E. Gowling Public School\, 250 Anna Avenue\, Ottawa\, Ontario\, K1Z7V6\, Canada
ATTACH;FMTTYPE=image/jpeg:https://showwiz.ca/wp-content/uploads/2019/07/unnamed-2.jpg
ORGANIZER;CN="WE%20Gowling%20Public%20School":MAILTO:gowlingcraftshow@gmail.com
GEO:45.3824983;-75.7319843
X-APPLE-STRUCTURED-LOCATION;VALUE=URI;X-ADDRESS=W.E. Gowling Public School 250 Anna Avenue Ottawa Ontario K1Z7V6 Canada;X-APPLE-RADIUS=500;X-TITLE=250 Anna Avenue:geo:-75.7319843,45.3824983
END:VEVENT
END:VCALENDAR