BEGIN:VCALENDAR
VERSION:2.0
PRODID:-//ShowWiz - ECPv5.16.4//NONSGML v1.0//EN
CALSCALE:GREGORIAN
METHOD:PUBLISH
X-WR-CALNAME:ShowWiz
X-ORIGINAL-URL:https://showwiz.ca
X-WR-CALDESC:Events for ShowWiz
BEGIN:VTIMEZONE
TZID:America/Toronto
BEGIN:DAYLIGHT
TZOFFSETFROM:-0500
TZOFFSETTO:-0400
TZNAME:EDT
DTSTART:20200308T070000
END:DAYLIGHT
BEGIN:STANDARD
TZOFFSETFROM:-0400
TZOFFSETTO:-0500
TZNAME:EST
DTSTART:20201101T060000
END:STANDARD
END:VTIMEZONE
BEGIN:VEVENT
DTSTART;TZID=America/Toronto:20200425T090000
DTEND;TZID=America/Toronto:20200425T163000
DTSTAMP:20260424T094449
CREATED:20200114T220507Z
LAST-MODIFIED:20200403T010417Z
UID:11719-1587805200-1587832200@showwiz.ca
SUMMARY:Festival of the Maples
DESCRIPTION:Celebrating the maple season the Festival of the Maples has over 15 maple syrup producers\, live entertainment on the streets and at the stage\, Maplefest Play Park area and over a 170 Festival Vendors. This is a FREE event on downtown Gore St.
URL:https://showwiz.ca/show/festival-of-the-maples/
LOCATION:Downtown Gore Street\, Gore Street E\, Perth\, Ontario\, K7H 1J8\, Canada
ATTACH;FMTTYPE=image/png:https://showwiz.ca/wp-content/uploads/2020/01/fest-logo1.png
ORGANIZER;CN="Chamber%20of%20Commerce%20Perth%20%26%20District":MAILTO:maple@perthchamber.com
GEO:44.8972107;-76.2462401
X-APPLE-STRUCTURED-LOCATION;VALUE=URI;X-ADDRESS=Downtown Gore Street Gore Street E Perth Ontario K7H 1J8 Canada;X-APPLE-RADIUS=500;X-TITLE=Gore Street E:geo:-76.2462401,44.8972107
END:VEVENT
END:VCALENDAR