BEGIN:VCALENDAR
VERSION:2.0
PRODID:-//ShowWiz - ECPv5.16.4//NONSGML v1.0//EN
CALSCALE:GREGORIAN
METHOD:PUBLISH
X-WR-CALNAME:ShowWiz
X-ORIGINAL-URL:https://showwiz.ca
X-WR-CALDESC:Events for ShowWiz
BEGIN:VTIMEZONE
TZID:America/Toronto
BEGIN:DAYLIGHT
TZOFFSETFROM:-0500
TZOFFSETTO:-0400
TZNAME:EDT
DTSTART:20240310T070000
END:DAYLIGHT
BEGIN:STANDARD
TZOFFSETFROM:-0400
TZOFFSETTO:-0500
TZNAME:EST
DTSTART:20241103T060000
END:STANDARD
END:VTIMEZONE
BEGIN:VEVENT
DTSTART;TZID=America/Toronto:20241012T100000
DTEND;TZID=America/Toronto:20241012T160000
DTSTAMP:20260424T032157
CREATED:20240604T172828Z
LAST-MODIFIED:20240604T172954Z
UID:24779-1728727200-1728748800@showwiz.ca
SUMMARY:Fall For Merrickville
DESCRIPTION:Our annual Thanksgiving Fair & Market is back for its 7th year!\nJoin us for hay rides\, food truck\, a pancake breakfast\, petting zoo and over 100+ handmade local vendors. Art\, baking\, crafts\, woodworking\, jams & veggies!\n\nSorry no smoking & no dogs allowed as this is a working horse farm for the protection of multiple animals who call Heritage Stable Home.
URL:https://showwiz.ca/show/fall-for-merrickville-3/
LOCATION:Heritage Stables\, 620 Heritage Drive\, Montague\, Ontario\, K0G1N0\, Canada
ATTACH;FMTTYPE=image/jpeg:https://showwiz.ca/wp-content/uploads/2024/06/444988701_996385839154577_9114202221167226958_n.jpg
ORGANIZER;CN="Pickle%20%26%20Myrrh":MAILTO:hello@pickleandmyrrh.com
GEO:44.9430896;-75.8263773
X-APPLE-STRUCTURED-LOCATION;VALUE=URI;X-ADDRESS=Heritage Stables 620 Heritage Drive Montague Ontario K0G1N0 Canada;X-APPLE-RADIUS=500;X-TITLE=620 Heritage Drive:geo:-75.8263773,44.9430896
END:VEVENT
END:VCALENDAR