BEGIN:VCALENDAR
VERSION:2.0
PRODID:-//ShowWiz - ECPv5.16.4//NONSGML v1.0//EN
CALSCALE:GREGORIAN
METHOD:PUBLISH
X-WR-CALNAME:ShowWiz
X-ORIGINAL-URL:https://showwiz.ca
X-WR-CALDESC:Events for ShowWiz
BEGIN:VTIMEZONE
TZID:America/Toronto
BEGIN:DAYLIGHT
TZOFFSETFROM:-0500
TZOFFSETTO:-0400
TZNAME:EDT
DTSTART:20210314T070000
END:DAYLIGHT
BEGIN:STANDARD
TZOFFSETFROM:-0400
TZOFFSETTO:-0500
TZNAME:EST
DTSTART:20211107T060000
END:STANDARD
END:VTIMEZONE
BEGIN:VEVENT
DTSTART;TZID=America/Toronto:20210815T090000
DTEND;TZID=America/Toronto:20210815T140000
DTSTAMP:20260424T003555
CREATED:20210816T053115Z
LAST-MODIFIED:20210816T053204Z
UID:18820-1629018000-1629036000@showwiz.ca
SUMMARY:Ecotay’s Farmers & Artisan Market
DESCRIPTION:Join us for our grand opening and first market! Connect with friends while you listen to live music\, eat\, and shop from our local farmers and makers!
URL:https://showwiz.ca/show/ecotays-farmers-artisan-market/
LOCATION:Ecotay\, 942 Upper Scotch Line\, Perth\, Ontario\, K7H 3C5\, Canada
ATTACH;FMTTYPE=image/jpeg:https://showwiz.ca/wp-content/uploads/2021/08/Ecotay-GrandOpening-2021-Aug15-e1629091810157.jpg
ORGANIZER;CN="Ecotay":MAILTO:ecotayperth@gmail.com
GEO:44.8269503;-76.3432056
X-APPLE-STRUCTURED-LOCATION;VALUE=URI;X-ADDRESS=Ecotay 942 Upper Scotch Line Perth Ontario K7H 3C5 Canada;X-APPLE-RADIUS=500;X-TITLE=942 Upper Scotch Line:geo:-76.3432056,44.8269503
END:VEVENT
END:VCALENDAR