BEGIN:VCALENDAR
VERSION:2.0
PRODID:-//ShowWiz - ECPv5.16.4//NONSGML v1.0//EN
CALSCALE:GREGORIAN
METHOD:PUBLISH
X-WR-CALNAME:ShowWiz
X-ORIGINAL-URL:https://showwiz.ca
X-WR-CALDESC:Events for ShowWiz
BEGIN:VTIMEZONE
TZID:America/Toronto
BEGIN:DAYLIGHT
TZOFFSETFROM:-0500
TZOFFSETTO:-0400
TZNAME:EDT
DTSTART:20230312T070000
END:DAYLIGHT
BEGIN:STANDARD
TZOFFSETFROM:-0400
TZOFFSETTO:-0500
TZNAME:EST
DTSTART:20231105T060000
END:STANDARD
END:VTIMEZONE
BEGIN:VEVENT
DTSTART;TZID=America/Toronto:20230415T110000
DTEND;TZID=America/Toronto:20230415T160000
DTSTAMP:20260424T102746
CREATED:20230328T171152Z
LAST-MODIFIED:20230328T171152Z
UID:23376-1681556400-1681574400@showwiz.ca
SUMMARY:Eastern Ontario Craft & Gift Market
DESCRIPTION:Many unique crafts and gifts will be available with many vendors on site. 
URL:https://showwiz.ca/show/eastern-ontario-craft-gift-market/
LOCATION:Nepean Sportsplex\, 1701 Woodroffe Avenue\, Nepean\, Ontario\, K2G1W2\, Canada
ATTACH;FMTTYPE=image/jpeg:https://showwiz.ca/wp-content/uploads/2023/03/337516254_227199859820611_3913788386174783040_n.jpg
ORGANIZER;CN="Eastern%20Ontario%20Craft%20%26%20Gift%20Market":MAILTO:moneycandles@yahoo.com
GEO:45.3267752;-75.7452786
X-APPLE-STRUCTURED-LOCATION;VALUE=URI;X-ADDRESS=Nepean Sportsplex 1701 Woodroffe Avenue Nepean Ontario K2G1W2 Canada;X-APPLE-RADIUS=500;X-TITLE=1701 Woodroffe Avenue:geo:-75.7452786,45.3267752
END:VEVENT
END:VCALENDAR