BEGIN:VCALENDAR
VERSION:2.0
PRODID:-//ShowWiz - ECPv5.16.4//NONSGML v1.0//EN
CALSCALE:GREGORIAN
METHOD:PUBLISH
X-WR-CALNAME:ShowWiz
X-ORIGINAL-URL:https://showwiz.ca
X-WR-CALDESC:Events for ShowWiz
BEGIN:VTIMEZONE
TZID:America/Toronto
BEGIN:DAYLIGHT
TZOFFSETFROM:-0500
TZOFFSETTO:-0400
TZNAME:EDT
DTSTART:20230312T070000
END:DAYLIGHT
BEGIN:STANDARD
TZOFFSETFROM:-0400
TZOFFSETTO:-0500
TZNAME:EST
DTSTART:20231105T060000
END:STANDARD
END:VTIMEZONE
BEGIN:VEVENT
DTSTART;TZID=America/Toronto:20230812T110000
DTEND;TZID=America/Toronto:20230812T180000
DTSTAMP:20260424T095943
CREATED:20230528T084139Z
LAST-MODIFIED:20230528T084139Z
UID:23654-1691838000-1691863200@showwiz.ca
SUMMARY:Diversity Cornwall Pride
DESCRIPTION:
URL:https://showwiz.ca/show/diversity-cornwall-pride-2/
LOCATION:Lamoureux Park – Cornwall\, 100 Water Street East\, Cornwall\, Ontario\, K6H6G4\, Canada
ORGANIZER;CN="Diversity%2FDiversit%C3%A9%20Cornwall":MAILTO:liz@cqnewheights.org
GEO:45.014555;-74.723482
X-APPLE-STRUCTURED-LOCATION;VALUE=URI;X-ADDRESS=Lamoureux Park – Cornwall 100 Water Street East Cornwall Ontario K6H6G4 Canada;X-APPLE-RADIUS=500;X-TITLE=100 Water Street East:geo:-74.723482,45.014555
END:VEVENT
END:VCALENDAR