BEGIN:VCALENDAR
VERSION:2.0
PRODID:-//ShowWiz - ECPv5.16.4//NONSGML v1.0//EN
CALSCALE:GREGORIAN
METHOD:PUBLISH
X-WR-CALNAME:ShowWiz
X-ORIGINAL-URL:https://showwiz.ca
X-WR-CALDESC:Events for ShowWiz
BEGIN:VTIMEZONE
TZID:America/Toronto
BEGIN:DAYLIGHT
TZOFFSETFROM:-0500
TZOFFSETTO:-0400
TZNAME:EDT
DTSTART:20220313T070000
END:DAYLIGHT
BEGIN:STANDARD
TZOFFSETFROM:-0400
TZOFFSETTO:-0500
TZNAME:EST
DTSTART:20221106T060000
END:STANDARD
END:VTIMEZONE
BEGIN:VEVENT
DTSTART;TZID=America/Toronto:20221203T090000
DTEND;TZID=America/Toronto:20221203T150000
DTSTAMP:20260424T081756
CREATED:20221109T063433Z
LAST-MODIFIED:20221109T063433Z
UID:22297-1670058000-1670079600@showwiz.ca
SUMMARY:Cumberland Farmers' Market - Christmas Market
DESCRIPTION:Our Annual Christmas Market is coming soon and we are so excited. After 2 years of being unable to host this event\, The Cumberland Farmers Market is thrilled and thankful to bring this event back to the community.\nOver 125 Vendors\, and a walk about through the village to all the various sites. Food and music and fun all on site for a full day of enjoyment. This family friendly event is the place to be on December 3rd 9am – 3pm\n\nThe Cumberland Farmers’ Market is so excited to be bringing this event back to life after restrictions.\n\nThank you to all our friends as we have proceeding carefully through this process. Your patience has helped so much.\n\nLocations\nRJ Kennedy Arena – 1115 Dunning Rd\nAhmadiyya Community Centre – 2362 Market St\nSt. Andrew’s United Church 2557 Old Montreal Rd\nDa Artisti Studio & Gallery – 2565 Old Montreal Rd\nBreakfast with Santa at 2552 Old Montreal Road
URL:https://showwiz.ca/show/cumberland-farmers-market-christmas-market-2/
LOCATION:RJ Kennedy Arena – Cumberland\, 1115 Dunning Road\, Cumberland\, Ontario\, K4C1P6\, Canada
ATTACH;FMTTYPE=image/jpeg:https://showwiz.ca/wp-content/uploads/2022/11/314330793_557296049535991_3079271002474071706_n.jpg
ORGANIZER;CN="Cumberland%20Farmers%27%20Market":MAILTO:cumberlandmarket@gmail.com .
GEO:45.5148677;-75.4037833
X-APPLE-STRUCTURED-LOCATION;VALUE=URI;X-ADDRESS=RJ Kennedy Arena – Cumberland 1115 Dunning Road Cumberland Ontario K4C1P6 Canada;X-APPLE-RADIUS=500;X-TITLE=1115 Dunning Road:geo:-75.4037833,45.5148677
END:VEVENT
END:VCALENDAR